BEGIN:VCALENDAR
VERSION:2.0
PRODID:-//UNITE PASTORALE Sainte-Marie-Madeleine - ECPv6.15.20//NONSGML v1.0//EN
CALSCALE:GREGORIAN
METHOD:PUBLISH
X-ORIGINAL-URL:https://paroissesaintemariemadeleine.be
X-WR-CALDESC:Évènements pour UNITE PASTORALE Sainte-Marie-Madeleine
REFRESH-INTERVAL;VALUE=DURATION:PT1H
X-Robots-Tag:noindex
X-PUBLISHED-TTL:PT1H
BEGIN:VTIMEZONE
TZID:Europe/Brussels
BEGIN:DAYLIGHT
TZOFFSETFROM:+0100
TZOFFSETTO:+0200
TZNAME:CEST
DTSTART:20210328T010000
END:DAYLIGHT
BEGIN:STANDARD
TZOFFSETFROM:+0200
TZOFFSETTO:+0100
TZNAME:CET
DTSTART:20211031T010000
END:STANDARD
BEGIN:DAYLIGHT
TZOFFSETFROM:+0100
TZOFFSETTO:+0200
TZNAME:CEST
DTSTART:20220327T010000
END:DAYLIGHT
BEGIN:STANDARD
TZOFFSETFROM:+0200
TZOFFSETTO:+0100
TZNAME:CET
DTSTART:20221030T010000
END:STANDARD
BEGIN:DAYLIGHT
TZOFFSETFROM:+0100
TZOFFSETTO:+0200
TZNAME:CEST
DTSTART:20230326T010000
END:DAYLIGHT
BEGIN:STANDARD
TZOFFSETFROM:+0200
TZOFFSETTO:+0100
TZNAME:CET
DTSTART:20231029T010000
END:STANDARD
END:VTIMEZONE
BEGIN:VEVENT
DTSTART;TZID=Europe/Brussels:20220527T083000
DTEND;TZID=Europe/Brussels:20220604T183000
DTSTAMP:20260421T143517
CREATED:20220524T114955Z
LAST-MODIFIED:20220524T122300Z
UID:11651-1653640200-1654367400@paroissesaintemariemadeleine.be
SUMMARY:Neuvaine à Notre Dame Au Bois 8h30 messe / 18h chapelet
DESCRIPTION:Durant la neuvaine\, messe chaque jour à 8h30 et chapeler à 18h00  du vendredi 27 mai au samedi 4 juin 2022.
URL:https://paroissesaintemariemadeleine.be/agenda-up/neuvaine-a-notre-dame-au-bois/
LOCATION:Chapelle Notre Dame au Bois\, rue de Marchienne\, Jumet\, Hainaut\, 6040\, Belgique
END:VEVENT
BEGIN:VEVENT
DTSTART;TZID=Europe/Brussels:20220529T100000
DTEND;TZID=Europe/Brussels:20220529T220000
DTSTAMP:20260421T143517
CREATED:20220524T121928Z
LAST-MODIFIED:20220524T122117Z
UID:11666-1653818400-1653861600@paroissesaintemariemadeleine.be
SUMMARY:Messe solennelle en plein air suivi du repas Fête de N-D Au Bois
DESCRIPTION:
URL:https://paroissesaintemariemadeleine.be/agenda-up/bar-des-moines-a-la-ducasse-du-bos-fete-de-n-d-au-bois-2/
LOCATION:Chapelle Notre Dame au Bois\, rue de Marchienne\, Jumet\, Hainaut\, 6040\, Belgique
END:VEVENT
END:VCALENDAR