BEGIN:VCALENDAR
VERSION:2.0
PRODID:-//UNITE PASTORALE Sainte-Marie-Madeleine - ECPv6.15.20//NONSGML v1.0//EN
CALSCALE:GREGORIAN
METHOD:PUBLISH
X-ORIGINAL-URL:https://paroissesaintemariemadeleine.be
X-WR-CALDESC:Évènements pour UNITE PASTORALE Sainte-Marie-Madeleine
REFRESH-INTERVAL;VALUE=DURATION:PT1H
X-Robots-Tag:noindex
X-PUBLISHED-TTL:PT1H
BEGIN:VTIMEZONE
TZID:Europe/Brussels
BEGIN:DAYLIGHT
TZOFFSETFROM:+0100
TZOFFSETTO:+0200
TZNAME:CEST
DTSTART:20210328T010000
END:DAYLIGHT
BEGIN:STANDARD
TZOFFSETFROM:+0200
TZOFFSETTO:+0100
TZNAME:CET
DTSTART:20211031T010000
END:STANDARD
BEGIN:DAYLIGHT
TZOFFSETFROM:+0100
TZOFFSETTO:+0200
TZNAME:CEST
DTSTART:20220327T010000
END:DAYLIGHT
BEGIN:STANDARD
TZOFFSETFROM:+0200
TZOFFSETTO:+0100
TZNAME:CET
DTSTART:20221030T010000
END:STANDARD
BEGIN:DAYLIGHT
TZOFFSETFROM:+0100
TZOFFSETTO:+0200
TZNAME:CEST
DTSTART:20230326T010000
END:DAYLIGHT
BEGIN:STANDARD
TZOFFSETFROM:+0200
TZOFFSETTO:+0100
TZNAME:CET
DTSTART:20231029T010000
END:STANDARD
END:VTIMEZONE
BEGIN:VEVENT
DTSTART;TZID=Europe/Brussels:20220915T190000
DTEND;TZID=Europe/Brussels:20220915T203000
DTSTAMP:20260421T084750
CREATED:20220910T101553Z
LAST-MODIFIED:20220910T101553Z
UID:11887-1663268400-1663273800@paroissesaintemariemadeleine.be
SUMMARY:Répétition chorale pour la messe de rentrée
DESCRIPTION:Jeudi 15 septembre 2022 à 19h00 : répétition de la chorale dans l’église de\nGohyssart. Ceux et celles qui veulent renforcer la chorale pour la messe\nunique du 18 septembre sont les bienvenus.
URL:https://paroissesaintemariemadeleine.be/agenda-up/repetition-chorale-pour-la-messe-de-rentree/
LOCATION:Eglise de Gohyssart\, Place du Ballon \, Jumet Gohyssart\, Hainaut\, 6040\, Belgique
END:VEVENT
END:VCALENDAR