BEGIN:VCALENDAR
VERSION:2.0
PRODID:-//UNITE PASTORALE Sainte-Marie-Madeleine - ECPv6.15.20//NONSGML v1.0//EN
CALSCALE:GREGORIAN
METHOD:PUBLISH
X-ORIGINAL-URL:https://paroissesaintemariemadeleine.be
X-WR-CALDESC:Évènements pour UNITE PASTORALE Sainte-Marie-Madeleine
REFRESH-INTERVAL;VALUE=DURATION:PT1H
X-Robots-Tag:noindex
X-PUBLISHED-TTL:PT1H
BEGIN:VTIMEZONE
TZID:Europe/Brussels
BEGIN:DAYLIGHT
TZOFFSETFROM:+0100
TZOFFSETTO:+0200
TZNAME:CEST
DTSTART:20210328T010000
END:DAYLIGHT
BEGIN:STANDARD
TZOFFSETFROM:+0200
TZOFFSETTO:+0100
TZNAME:CET
DTSTART:20211031T010000
END:STANDARD
BEGIN:DAYLIGHT
TZOFFSETFROM:+0100
TZOFFSETTO:+0200
TZNAME:CEST
DTSTART:20220327T010000
END:DAYLIGHT
BEGIN:STANDARD
TZOFFSETFROM:+0200
TZOFFSETTO:+0100
TZNAME:CET
DTSTART:20221030T010000
END:STANDARD
BEGIN:DAYLIGHT
TZOFFSETFROM:+0100
TZOFFSETTO:+0200
TZNAME:CEST
DTSTART:20230326T010000
END:DAYLIGHT
BEGIN:STANDARD
TZOFFSETFROM:+0200
TZOFFSETTO:+0100
TZNAME:CET
DTSTART:20231029T010000
END:STANDARD
END:VTIMEZONE
BEGIN:VEVENT
DTSTART;TZID=Europe/Brussels:20220921T190000
DTEND;TZID=Europe/Brussels:20220921T213000
DTSTAMP:20260421T084822
CREATED:20220910T101955Z
LAST-MODIFIED:20220910T101955Z
UID:11891-1663786800-1663795800@paroissesaintemariemadeleine.be
SUMMARY:Rencontre CEFOC : « Qu’est ce qui nous fait avancer malgré les obstacles de la vie »
DESCRIPTION:Mercredi 21 septembre 2022 de 19h00 à 21h30 : rencontre du CEFOC\,\nsur le thème : « Qu’est ce qui nous fait avancer malgré les obstacles de la\nvie »\, à la maison paroissiale de la Docherie\, Place reine Astrid 7\, à 6030\,\nMarchienne Docherie.
URL:https://paroissesaintemariemadeleine.be/agenda-up/rencontre-cefoc-quest-ce-qui-nous-fait-avancer-malgre-les-obstacles-de-la-vie/
LOCATION:Maison paroissiale de la Docherie\, place Reine Astrid\,9\, Marchienne Docherie\, Hainaut\, 6030\, Belgique
END:VEVENT
END:VCALENDAR