BEGIN:VCALENDAR
VERSION:2.0
PRODID:-//UNITE PASTORALE Sainte-Marie-Madeleine - ECPv6.15.20//NONSGML v1.0//EN
CALSCALE:GREGORIAN
METHOD:PUBLISH
X-WR-CALNAME:UNITE PASTORALE Sainte-Marie-Madeleine
X-ORIGINAL-URL:https://paroissesaintemariemadeleine.be
X-WR-CALDESC:Évènements pour UNITE PASTORALE Sainte-Marie-Madeleine
REFRESH-INTERVAL;VALUE=DURATION:PT1H
X-Robots-Tag:noindex
X-PUBLISHED-TTL:PT1H
BEGIN:VTIMEZONE
TZID:Europe/Brussels
BEGIN:DAYLIGHT
TZOFFSETFROM:+0100
TZOFFSETTO:+0200
TZNAME:CEST
DTSTART:20210328T010000
END:DAYLIGHT
BEGIN:STANDARD
TZOFFSETFROM:+0200
TZOFFSETTO:+0100
TZNAME:CET
DTSTART:20211031T010000
END:STANDARD
BEGIN:DAYLIGHT
TZOFFSETFROM:+0100
TZOFFSETTO:+0200
TZNAME:CEST
DTSTART:20220327T010000
END:DAYLIGHT
BEGIN:STANDARD
TZOFFSETFROM:+0200
TZOFFSETTO:+0100
TZNAME:CET
DTSTART:20221030T010000
END:STANDARD
BEGIN:DAYLIGHT
TZOFFSETFROM:+0100
TZOFFSETTO:+0200
TZNAME:CEST
DTSTART:20230326T010000
END:DAYLIGHT
BEGIN:STANDARD
TZOFFSETFROM:+0200
TZOFFSETTO:+0100
TZNAME:CET
DTSTART:20231029T010000
END:STANDARD
END:VTIMEZONE
BEGIN:VEVENT
DTSTART;TZID=Europe/Brussels:20221217T140000
DTEND;TZID=Europe/Brussels:20221218T200000
DTSTAMP:20260421T043318
CREATED:20221126T103209Z
LAST-MODIFIED:20221126T103209Z
UID:12124-1671285600-1671393600@paroissesaintemariemadeleine.be
SUMMARY:Marché de Noël Foire artisanale Dampremy
DESCRIPTION:
URL:https://paroissesaintemariemadeleine.be/agenda-up/marche-de-noel-foire-artisanale-dampremy/
LOCATION:CEME DAMPREMY\, Rue des Français\, 147\, Dampremy\, 6020\, Belgique
END:VEVENT
BEGIN:VEVENT
DTSTART;TZID=Europe/Brussels:20221217T150000
DTEND;TZID=Europe/Brussels:20221217T180000
DTSTAMP:20260421T043318
CREATED:20221203T100010Z
LAST-MODIFIED:20221203T100010Z
UID:12154-1671289200-1671300000@paroissesaintemariemadeleine.be
SUMMARY:Conférence de l’Avent sur la synodalité
DESCRIPTION:
URL:https://paroissesaintemariemadeleine.be/agenda-up/conference-de-lavent-sur-la-synodalite/
LOCATION:Eglise de Lodelinsart Ouest\, rue Neuve \, Lodelinsart\, Hainaut\, 6042
END:VEVENT
END:VCALENDAR