BEGIN:VCALENDAR
VERSION:2.0
PRODID:-//UNITE PASTORALE Sainte-Marie-Madeleine - ECPv6.15.20//NONSGML v1.0//EN
CALSCALE:GREGORIAN
METHOD:PUBLISH
X-WR-CALNAME:UNITE PASTORALE Sainte-Marie-Madeleine
X-ORIGINAL-URL:https://paroissesaintemariemadeleine.be
X-WR-CALDESC:Évènements pour UNITE PASTORALE Sainte-Marie-Madeleine
REFRESH-INTERVAL;VALUE=DURATION:PT1H
X-Robots-Tag:noindex
X-PUBLISHED-TTL:PT1H
BEGIN:VTIMEZONE
TZID:Europe/Brussels
BEGIN:DAYLIGHT
TZOFFSETFROM:+0100
TZOFFSETTO:+0200
TZNAME:CEST
DTSTART:20220327T010000
END:DAYLIGHT
BEGIN:STANDARD
TZOFFSETFROM:+0200
TZOFFSETTO:+0100
TZNAME:CET
DTSTART:20221030T010000
END:STANDARD
BEGIN:DAYLIGHT
TZOFFSETFROM:+0100
TZOFFSETTO:+0200
TZNAME:CEST
DTSTART:20230326T010000
END:DAYLIGHT
BEGIN:STANDARD
TZOFFSETFROM:+0200
TZOFFSETTO:+0100
TZNAME:CET
DTSTART:20231029T010000
END:STANDARD
BEGIN:DAYLIGHT
TZOFFSETFROM:+0100
TZOFFSETTO:+0200
TZNAME:CEST
DTSTART:20240331T010000
END:DAYLIGHT
BEGIN:STANDARD
TZOFFSETFROM:+0200
TZOFFSETTO:+0100
TZNAME:CET
DTSTART:20241027T010000
END:STANDARD
END:VTIMEZONE
BEGIN:VEVENT
DTSTART;TZID=Europe/Brussels:20230204T153000
DTEND;TZID=Europe/Brussels:20230204T193000
DTSTAMP:20260421T020308
CREATED:20230121T105616Z
LAST-MODIFIED:20230121T105616Z
UID:12293-1675524600-1675539000@paroissesaintemariemadeleine.be
SUMMARY:Catéchèse intergénérationnelle : fête de la chandeleur de l’UP à Roux Bassée
DESCRIPTION:Un moment festif pour célébrer ensemble\, enfants\, ados\, adultes et seniors\,  la fête de la chandeleur! \nAccueil dès 15h30 à la salle du foyer\, rue Emmanuël Jacquet\, 40 à 6044  Roux Bassée. \n16h00 : temps de recueillement à la chapelle Notre Dame de Grâce\, rue Willocq à Roux Bassée. \n17h00 : fête de la chandeleur et dégustation de crêpes avec jeux intergénérationnels à la salle du foyer. \nParking possible à la salle du Foyer.
URL:https://paroissesaintemariemadeleine.be/agenda-up/catechese-intergenerationnelle-fete-de-la-chandeleur-de-lup-a-roux-bassee/
LOCATION:Salle du Foyer\, Rue Emmanuël Jacquet\, 40\, Roux Bassée\, Hainaut\, 6044\, Belgique
END:VEVENT
END:VCALENDAR