BEGIN:VCALENDAR
VERSION:2.0
PRODID:-//UNITE PASTORALE Sainte-Marie-Madeleine - ECPv6.15.20//NONSGML v1.0//EN
CALSCALE:GREGORIAN
METHOD:PUBLISH
X-ORIGINAL-URL:https://paroissesaintemariemadeleine.be
X-WR-CALDESC:Évènements pour UNITE PASTORALE Sainte-Marie-Madeleine
REFRESH-INTERVAL;VALUE=DURATION:PT1H
X-Robots-Tag:noindex
X-PUBLISHED-TTL:PT1H
BEGIN:VTIMEZONE
TZID:Europe/Brussels
BEGIN:DAYLIGHT
TZOFFSETFROM:+0100
TZOFFSETTO:+0200
TZNAME:CEST
DTSTART:20220327T010000
END:DAYLIGHT
BEGIN:STANDARD
TZOFFSETFROM:+0200
TZOFFSETTO:+0100
TZNAME:CET
DTSTART:20221030T010000
END:STANDARD
BEGIN:DAYLIGHT
TZOFFSETFROM:+0100
TZOFFSETTO:+0200
TZNAME:CEST
DTSTART:20230326T010000
END:DAYLIGHT
BEGIN:STANDARD
TZOFFSETFROM:+0200
TZOFFSETTO:+0100
TZNAME:CET
DTSTART:20231029T010000
END:STANDARD
BEGIN:DAYLIGHT
TZOFFSETFROM:+0100
TZOFFSETTO:+0200
TZNAME:CEST
DTSTART:20240331T010000
END:DAYLIGHT
BEGIN:STANDARD
TZOFFSETFROM:+0200
TZOFFSETTO:+0100
TZNAME:CET
DTSTART:20241027T010000
END:STANDARD
END:VTIMEZONE
BEGIN:VEVENT
DTSTART;TZID=Europe/Brussels:20231015T093000
DTEND;TZID=Europe/Brussels:20231015T120000
DTSTAMP:20260420T133453
CREATED:20231014T121201Z
LAST-MODIFIED:20231014T121201Z
UID:12807-1697362200-1697371200@paroissesaintemariemadeleine.be
SUMMARY:Grande rencontre catéchèse de cheminement pour tous au pôle jeunesse
DESCRIPTION:Grande rencontre catéchèse de cheminement pour tous au pôle jeunesse\, suivi de la messe à 11h00 en l’église Saint Rémy de Dampremy.
URL:https://paroissesaintemariemadeleine.be/agenda-up/grande-rencontre-catechese-de-cheminement-pour-tous-au-pole-jeunesse/
LOCATION:Pôle jeunesse\, rue Lecomte\, 41\, Dampremy\, 6020\, Belgique
END:VEVENT
BEGIN:VEVENT
DTSTART;TZID=Europe/Brussels:20231015T173000
DTEND;TZID=Europe/Brussels:20231015T183000
DTSTAMP:20260420T133453
CREATED:20231014T120959Z
LAST-MODIFIED:20231014T120959Z
UID:12805-1697391000-1697394600@paroissesaintemariemadeleine.be
SUMMARY:Messe en anglais à Lodelinsart Ouest
DESCRIPTION:-15/10/2023 : messe en anglais à Lodelinsart Ouest. Elle aura lieu une fois tous les mois.
URL:https://paroissesaintemariemadeleine.be/agenda-up/messe-en-anglais-a-lodelinsart-ouest/
LOCATION:Eglise de Lodelinsart Ouest\, rue Neuve \, Lodelinsart\, Hainaut\, 6042
END:VEVENT
END:VCALENDAR