BEGIN:VCALENDAR
VERSION:2.0
PRODID:-//UNITE PASTORALE Sainte-Marie-Madeleine - ECPv6.15.20//NONSGML v1.0//EN
CALSCALE:GREGORIAN
METHOD:PUBLISH
X-ORIGINAL-URL:https://paroissesaintemariemadeleine.be
X-WR-CALDESC:Évènements pour UNITE PASTORALE Sainte-Marie-Madeleine
REFRESH-INTERVAL;VALUE=DURATION:PT1H
X-Robots-Tag:noindex
X-PUBLISHED-TTL:PT1H
BEGIN:VTIMEZONE
TZID:Europe/Brussels
BEGIN:DAYLIGHT
TZOFFSETFROM:+0100
TZOFFSETTO:+0200
TZNAME:CEST
DTSTART:20220327T010000
END:DAYLIGHT
BEGIN:STANDARD
TZOFFSETFROM:+0200
TZOFFSETTO:+0100
TZNAME:CET
DTSTART:20221030T010000
END:STANDARD
BEGIN:DAYLIGHT
TZOFFSETFROM:+0100
TZOFFSETTO:+0200
TZNAME:CEST
DTSTART:20230326T010000
END:DAYLIGHT
BEGIN:STANDARD
TZOFFSETFROM:+0200
TZOFFSETTO:+0100
TZNAME:CET
DTSTART:20231029T010000
END:STANDARD
BEGIN:DAYLIGHT
TZOFFSETFROM:+0100
TZOFFSETTO:+0200
TZNAME:CEST
DTSTART:20240331T010000
END:DAYLIGHT
BEGIN:STANDARD
TZOFFSETFROM:+0200
TZOFFSETTO:+0100
TZNAME:CET
DTSTART:20241027T010000
END:STANDARD
END:VTIMEZONE
BEGIN:VEVENT
DTSTART;TZID=Europe/Brussels:20231030T093000
DTEND;TZID=Europe/Brussels:20231030T170000
DTSTAMP:20260420T120638
CREATED:20231014T120332Z
LAST-MODIFIED:20231014T120332Z
UID:12802-1698658200-1698685200@paroissesaintemariemadeleine.be
SUMMARY:Journée diocésaine des acolytes
DESCRIPTION:
URL:https://paroissesaintemariemadeleine.be/agenda-up/journee-diocesaine-des-acolytes/
LOCATION:Institut Saint Joseph\, Bd de l'YSER\, 12\, Charleroi\, Hainaut\, 6000\, Belgique
END:VEVENT
BEGIN:VEVENT
DTSTART;TZID=Europe/Brussels:20231030T183000
DTEND;TZID=Europe/Brussels:20231030T203000
DTSTAMP:20260420T120638
CREATED:20231014T105809Z
LAST-MODIFIED:20231014T110325Z
UID:12786-1698690600-1698697800@paroissesaintemariemadeleine.be
SUMMARY:Soirée Arc-En-Terres
DESCRIPTION:
URL:https://paroissesaintemariemadeleine.be/agenda-up/soiree-arc-en-terres-3/
LOCATION:Maison paroissiale de la Docherie\, place Reine Astrid\,9\, Marchienne Docherie\, Hainaut\, 6030\, Belgique
END:VEVENT
END:VCALENDAR