BEGIN:VCALENDAR
VERSION:2.0
PRODID:-//UNITE PASTORALE Sainte-Marie-Madeleine - ECPv6.15.20//NONSGML v1.0//EN
CALSCALE:GREGORIAN
METHOD:PUBLISH
X-WR-CALNAME:UNITE PASTORALE Sainte-Marie-Madeleine
X-ORIGINAL-URL:https://paroissesaintemariemadeleine.be
X-WR-CALDESC:Évènements pour UNITE PASTORALE Sainte-Marie-Madeleine
REFRESH-INTERVAL;VALUE=DURATION:PT1H
X-Robots-Tag:noindex
X-PUBLISHED-TTL:PT1H
BEGIN:VTIMEZONE
TZID:Europe/Brussels
BEGIN:DAYLIGHT
TZOFFSETFROM:+0100
TZOFFSETTO:+0200
TZNAME:CEST
DTSTART:20220327T010000
END:DAYLIGHT
BEGIN:STANDARD
TZOFFSETFROM:+0200
TZOFFSETTO:+0100
TZNAME:CET
DTSTART:20221030T010000
END:STANDARD
BEGIN:DAYLIGHT
TZOFFSETFROM:+0100
TZOFFSETTO:+0200
TZNAME:CEST
DTSTART:20230326T010000
END:DAYLIGHT
BEGIN:STANDARD
TZOFFSETFROM:+0200
TZOFFSETTO:+0100
TZNAME:CET
DTSTART:20231029T010000
END:STANDARD
BEGIN:DAYLIGHT
TZOFFSETFROM:+0100
TZOFFSETTO:+0200
TZNAME:CEST
DTSTART:20240331T010000
END:DAYLIGHT
BEGIN:STANDARD
TZOFFSETFROM:+0200
TZOFFSETTO:+0100
TZNAME:CET
DTSTART:20241027T010000
END:STANDARD
END:VTIMEZONE
BEGIN:VEVENT
DTSTART;TZID=Europe/Brussels:20231124T190000
DTEND;TZID=Europe/Brussels:20231124T210000
DTSTAMP:20260420T120451
CREATED:20231119T154915Z
LAST-MODIFIED:20231119T154915Z
UID:13040-1700852400-1700859600@paroissesaintemariemadeleine.be
SUMMARY:Conférence de Madame Daspremont « Portez la parole des animaux »
DESCRIPTION:Vendredi 24 novembre 2023 à 19h00 en l’église de Gohyssart : Conférence par Madame Françoise Daspremont\, sur le bien être animal\, en présence du prince Laurent. \nUn peu moins d’un an après sa venue à Jumet pour l’ouverture d’une antenne de sa fondation\, le Prince Laurent y revient  à la faveur d’une conférence de l’ancienne échevine du Bien-Être Animal Françoise Daspremont. Celle-ci donnera la parole… aux animaux !
URL:https://paroissesaintemariemadeleine.be/agenda-up/conference-de-madame-daspremont-portez-la-parole-des-animaux/
LOCATION:Eglise de Gohyssart\, Place du Ballon \, Jumet Gohyssart\, Hainaut\, 6040\, Belgique
END:VEVENT
END:VCALENDAR