BEGIN:VCALENDAR
VERSION:2.0
PRODID:-//UNITE PASTORALE Sainte-Marie-Madeleine - ECPv6.15.20//NONSGML v1.0//EN
CALSCALE:GREGORIAN
METHOD:PUBLISH
X-WR-CALNAME:UNITE PASTORALE Sainte-Marie-Madeleine
X-ORIGINAL-URL:https://paroissesaintemariemadeleine.be
X-WR-CALDESC:Évènements pour UNITE PASTORALE Sainte-Marie-Madeleine
REFRESH-INTERVAL;VALUE=DURATION:PT1H
X-Robots-Tag:noindex
X-PUBLISHED-TTL:PT1H
BEGIN:VTIMEZONE
TZID:Europe/Brussels
BEGIN:DAYLIGHT
TZOFFSETFROM:+0100
TZOFFSETTO:+0200
TZNAME:CEST
DTSTART:20220327T010000
END:DAYLIGHT
BEGIN:STANDARD
TZOFFSETFROM:+0200
TZOFFSETTO:+0100
TZNAME:CET
DTSTART:20221030T010000
END:STANDARD
BEGIN:DAYLIGHT
TZOFFSETFROM:+0100
TZOFFSETTO:+0200
TZNAME:CEST
DTSTART:20230326T010000
END:DAYLIGHT
BEGIN:STANDARD
TZOFFSETFROM:+0200
TZOFFSETTO:+0100
TZNAME:CET
DTSTART:20231029T010000
END:STANDARD
BEGIN:DAYLIGHT
TZOFFSETFROM:+0100
TZOFFSETTO:+0200
TZNAME:CEST
DTSTART:20240331T010000
END:DAYLIGHT
BEGIN:STANDARD
TZOFFSETFROM:+0200
TZOFFSETTO:+0100
TZNAME:CET
DTSTART:20241027T010000
END:STANDARD
END:VTIMEZONE
BEGIN:VEVENT
DTSTART;TZID=Europe/Brussels:20231211T093000
DTEND;TZID=Europe/Brussels:20231211T130000
DTSTAMP:20260420T104538
CREATED:20231119T154149Z
LAST-MODIFIED:20231119T154149Z
UID:13036-1702287000-1702299600@paroissesaintemariemadeleine.be
SUMMARY:Marché de Noël par le GAC à Jumet Gohyssart
DESCRIPTION:Dimanche 10 décembre après-midi et lundi 11 matin jusqu’à 13h00 : Marché de Noël dans la salle de la maison de Tous à Gohyssart\, par le GAC.
URL:https://paroissesaintemariemadeleine.be/agenda-up/marche-de-noel-par-le-gac-a-jumet-gohyssart/
LOCATION:salle la maison de tous\, Place du Ballon\, Jumet Gohyssart\, Hainaut\, 6040\, Belgique
END:VEVENT
END:VCALENDAR