BEGIN:VCALENDAR
VERSION:2.0
PRODID:-//UNITE PASTORALE Sainte-Marie-Madeleine - ECPv6.15.20//NONSGML v1.0//EN
CALSCALE:GREGORIAN
METHOD:PUBLISH
X-WR-CALNAME:UNITE PASTORALE Sainte-Marie-Madeleine
X-ORIGINAL-URL:https://paroissesaintemariemadeleine.be
X-WR-CALDESC:Évènements pour UNITE PASTORALE Sainte-Marie-Madeleine
REFRESH-INTERVAL;VALUE=DURATION:PT1H
X-Robots-Tag:noindex
X-PUBLISHED-TTL:PT1H
BEGIN:VTIMEZONE
TZID:Europe/Brussels
BEGIN:DAYLIGHT
TZOFFSETFROM:+0100
TZOFFSETTO:+0200
TZNAME:CEST
DTSTART:20220327T010000
END:DAYLIGHT
BEGIN:STANDARD
TZOFFSETFROM:+0200
TZOFFSETTO:+0100
TZNAME:CET
DTSTART:20221030T010000
END:STANDARD
BEGIN:DAYLIGHT
TZOFFSETFROM:+0100
TZOFFSETTO:+0200
TZNAME:CEST
DTSTART:20230326T010000
END:DAYLIGHT
BEGIN:STANDARD
TZOFFSETFROM:+0200
TZOFFSETTO:+0100
TZNAME:CET
DTSTART:20231029T010000
END:STANDARD
BEGIN:DAYLIGHT
TZOFFSETFROM:+0100
TZOFFSETTO:+0200
TZNAME:CEST
DTSTART:20240331T010000
END:DAYLIGHT
BEGIN:STANDARD
TZOFFSETFROM:+0200
TZOFFSETTO:+0100
TZNAME:CET
DTSTART:20241027T010000
END:STANDARD
END:VTIMEZONE
BEGIN:VEVENT
DTSTART;VALUE=DATE:20231216
DTEND;VALUE=DATE:20231218
DTSTAMP:20260420T104538
CREATED:20231014T115505Z
LAST-MODIFIED:20231014T115505Z
UID:12794-1702699200-1702785599@paroissesaintemariemadeleine.be
SUMMARY:Fête des 110 ans de l’église Saint Roch à Lodelinsart Ouest
DESCRIPTION:Fête des 110 ans de l’église Saint Roch\nLes 16 et 17 décembre 2023\nLes informations plus précises\nvous parviendront en novembre.
URL:https://paroissesaintemariemadeleine.be/agenda-up/fete-des-110-ans-de-leglise-saint-roch-a-lodelinsart-ouest/
LOCATION:Eglise de Lodelinsart Ouest\, rue Neuve \, Lodelinsart\, Hainaut\, 6042
END:VEVENT
BEGIN:VEVENT
DTSTART;TZID=Europe/Brussels:20231216T150000
DTEND;TZID=Europe/Brussels:20231216T170000
DTSTAMP:20260420T104538
CREATED:20231130T165955Z
LAST-MODIFIED:20231130T170052Z
UID:13068-1702738800-1702746000@paroissesaintemariemadeleine.be
SUMMARY:Katé Théâtre : Jericho cocorico
DESCRIPTION:pièce de théâtre joué par des amateurs et l’abbé Pardonce de Gerpinnes
URL:https://paroissesaintemariemadeleine.be/agenda-up/kate-theatre-jericho-cocorico/
LOCATION:Eglise Notre-Dame de Lourdes Trieux\, Rue Brigade Piron 39\, Montignies Sur Sambre\, hainaut\, 6061\, Belgique
END:VEVENT
END:VCALENDAR