BEGIN:VCALENDAR
VERSION:2.0
PRODID:-//UNITE PASTORALE Sainte-Marie-Madeleine - ECPv6.15.20//NONSGML v1.0//EN
CALSCALE:GREGORIAN
METHOD:PUBLISH
X-ORIGINAL-URL:https://paroissesaintemariemadeleine.be
X-WR-CALDESC:Évènements pour UNITE PASTORALE Sainte-Marie-Madeleine
REFRESH-INTERVAL;VALUE=DURATION:PT1H
X-Robots-Tag:noindex
X-PUBLISHED-TTL:PT1H
BEGIN:VTIMEZONE
TZID:Europe/Brussels
BEGIN:DAYLIGHT
TZOFFSETFROM:+0100
TZOFFSETTO:+0200
TZNAME:CEST
DTSTART:20230326T010000
END:DAYLIGHT
BEGIN:STANDARD
TZOFFSETFROM:+0200
TZOFFSETTO:+0100
TZNAME:CET
DTSTART:20231029T010000
END:STANDARD
BEGIN:DAYLIGHT
TZOFFSETFROM:+0100
TZOFFSETTO:+0200
TZNAME:CEST
DTSTART:20240331T010000
END:DAYLIGHT
BEGIN:STANDARD
TZOFFSETFROM:+0200
TZOFFSETTO:+0100
TZNAME:CET
DTSTART:20241027T010000
END:STANDARD
BEGIN:DAYLIGHT
TZOFFSETFROM:+0100
TZOFFSETTO:+0200
TZNAME:CEST
DTSTART:20250330T010000
END:DAYLIGHT
BEGIN:STANDARD
TZOFFSETFROM:+0200
TZOFFSETTO:+0100
TZNAME:CET
DTSTART:20251026T010000
END:STANDARD
END:VTIMEZONE
BEGIN:VEVENT
DTSTART;TZID=Europe/Brussels:20240508T150000
DTEND;TZID=Europe/Brussels:20240512T210000
DTSTAMP:20260420T033316
CREATED:20240413T083726Z
LAST-MODIFIED:20240413T083726Z
UID:13372-1715180400-1715547600@paroissesaintemariemadeleine.be
SUMMARY:Fête de Notre Dame au Bois / Fête de l’unité pastorale
DESCRIPTION:
URL:https://paroissesaintemariemadeleine.be/agenda-up/fete-de-notre-dame-au-bois-fete-de-lunite-pastorale/
LOCATION:Chapelle Notre Dame au Bois\, rue de Marchienne\, Jumet\, Hainaut\, 6040\, Belgique
END:VEVENT
BEGIN:VEVENT
DTSTART;TZID=Europe/Brussels:20240509T100000
DTEND;TZID=Europe/Brussels:20240509T130000
DTSTAMP:20260420T033316
CREATED:20240413T084121Z
LAST-MODIFIED:20240413T084121Z
UID:13374-1715248800-1715259600@paroissesaintemariemadeleine.be
SUMMARY:Messe solennelle de l’ascension suivi de la procession N-D Au Bois
DESCRIPTION: Jeudi 9 mai 2024\, fête de l’Ascension\, Ducasse du Bos\, Messe unique à 10h00 en l’église de Gohyssart\, suivie de la procession de Notre Dame au Bois. \n  \n \n 
URL:https://paroissesaintemariemadeleine.be/agenda-up/messe-solennelle-de-lascension-suivi-de-la-procession-n-d-au-bois/
LOCATION:Eglise de Gohyssart\, Place du Ballon \, Jumet Gohyssart\, Hainaut\, 6040\, Belgique
END:VEVENT
END:VCALENDAR