BEGIN:VCALENDAR
VERSION:2.0
PRODID:-//UNITE PASTORALE Sainte-Marie-Madeleine - ECPv6.15.20//NONSGML v1.0//EN
CALSCALE:GREGORIAN
METHOD:PUBLISH
X-ORIGINAL-URL:https://paroissesaintemariemadeleine.be
X-WR-CALDESC:Évènements pour UNITE PASTORALE Sainte-Marie-Madeleine
REFRESH-INTERVAL;VALUE=DURATION:PT1H
X-Robots-Tag:noindex
X-PUBLISHED-TTL:PT1H
BEGIN:VTIMEZONE
TZID:Europe/Brussels
BEGIN:DAYLIGHT
TZOFFSETFROM:+0100
TZOFFSETTO:+0200
TZNAME:CEST
DTSTART:20230326T010000
END:DAYLIGHT
BEGIN:STANDARD
TZOFFSETFROM:+0200
TZOFFSETTO:+0100
TZNAME:CET
DTSTART:20231029T010000
END:STANDARD
BEGIN:DAYLIGHT
TZOFFSETFROM:+0100
TZOFFSETTO:+0200
TZNAME:CEST
DTSTART:20240331T010000
END:DAYLIGHT
BEGIN:STANDARD
TZOFFSETFROM:+0200
TZOFFSETTO:+0100
TZNAME:CET
DTSTART:20241027T010000
END:STANDARD
BEGIN:DAYLIGHT
TZOFFSETFROM:+0100
TZOFFSETTO:+0200
TZNAME:CEST
DTSTART:20250330T010000
END:DAYLIGHT
BEGIN:STANDARD
TZOFFSETFROM:+0200
TZOFFSETTO:+0100
TZNAME:CET
DTSTART:20251026T010000
END:STANDARD
END:VTIMEZONE
BEGIN:VEVENT
DTSTART;TZID=Europe/Brussels:20240623T110000
DTEND;TZID=Europe/Brussels:20240623T123000
DTSTAMP:20260420T015352
CREATED:20240601T073125Z
LAST-MODIFIED:20240601T073125Z
UID:13486-1719140400-1719145800@paroissesaintemariemadeleine.be
SUMMARY:Messe de clôture de l’année pastorale
DESCRIPTION:Clôture de l’année pastorale 2023-2024. \nMesse unique pour toute l’Unité Pastorale\, à 11h00 à Gohyssart.
URL:https://paroissesaintemariemadeleine.be/agenda-up/messe-de-cloture-de-lannee-pastorale/
LOCATION:Eglise de Gohyssart\, Place du Ballon \, Jumet Gohyssart\, Hainaut\, 6040\, Belgique
END:VEVENT
BEGIN:VEVENT
DTSTART;TZID=Europe/Brussels:20240623T160000
DTEND;TZID=Europe/Brussels:20240623T190000
DTSTAMP:20260420T015352
CREATED:20240413T084835Z
LAST-MODIFIED:20240413T084835Z
UID:13380-1719158400-1719169200@paroissesaintemariemadeleine.be
SUMMARY:Fêtes de la musique à l’église de Roux: concert avec la chorale la Clé des Chants
DESCRIPTION:Concert organisé par la Rochelle asbl le dimanche 23 juin à l occasion des Fêtes de la musique. \nAvec la chorale : la clé des chants sous la direction de Jean Jadin.
URL:https://paroissesaintemariemadeleine.be/agenda-up/fetes-de-la-musique-a-leglise-de-roux-concert-avec-la-chorale-la-cle-des-chants/
LOCATION:Eglise de Roux\, rue A. Lepage\, 1\, Roux\, 6044\, Belgique
END:VEVENT
END:VCALENDAR