BEGIN:VCALENDAR
VERSION:2.0
PRODID:-//UNITE PASTORALE Sainte-Marie-Madeleine - ECPv6.15.20//NONSGML v1.0//EN
CALSCALE:GREGORIAN
METHOD:PUBLISH
X-ORIGINAL-URL:https://paroissesaintemariemadeleine.be
X-WR-CALDESC:Évènements pour UNITE PASTORALE Sainte-Marie-Madeleine
REFRESH-INTERVAL;VALUE=DURATION:PT1H
X-Robots-Tag:noindex
X-PUBLISHED-TTL:PT1H
BEGIN:VTIMEZONE
TZID:Europe/Brussels
BEGIN:DAYLIGHT
TZOFFSETFROM:+0100
TZOFFSETTO:+0200
TZNAME:CEST
DTSTART:20190331T010000
END:DAYLIGHT
BEGIN:STANDARD
TZOFFSETFROM:+0200
TZOFFSETTO:+0100
TZNAME:CET
DTSTART:20191027T010000
END:STANDARD
BEGIN:DAYLIGHT
TZOFFSETFROM:+0100
TZOFFSETTO:+0200
TZNAME:CEST
DTSTART:20200329T010000
END:DAYLIGHT
BEGIN:STANDARD
TZOFFSETFROM:+0200
TZOFFSETTO:+0100
TZNAME:CET
DTSTART:20201025T010000
END:STANDARD
BEGIN:DAYLIGHT
TZOFFSETFROM:+0100
TZOFFSETTO:+0200
TZNAME:CEST
DTSTART:20210328T010000
END:DAYLIGHT
BEGIN:STANDARD
TZOFFSETFROM:+0200
TZOFFSETTO:+0100
TZNAME:CET
DTSTART:20211031T010000
END:STANDARD
END:VTIMEZONE
BEGIN:VEVENT
DTSTART;TZID=Europe/Brussels:20201224T173000
DTEND;TZID=Europe/Brussels:20201224T183000
DTSTAMP:20260422T110202
CREATED:20201218T145543Z
LAST-MODIFIED:20201218T145543Z
UID:10376-1608831000-1608834600@paroissesaintemariemadeleine.be
SUMMARY:Célébration de la nuit de Noël à Try-Charly et à Lodelinsart Ouest
DESCRIPTION:Célébration de la nuit de Noël à Try-Charlyet à à Lodelinsart Ouest
URL:https://paroissesaintemariemadeleine.be/agenda-up/celebration-de-la-nuit-de-noel-a-try-charly-et-a-lodelinsart-ouest/
LOCATION:Eglise de Jumet Try\, Rue du Bay\, 9\, Julmet Try Charly\, 6040
END:VEVENT
BEGIN:VEVENT
DTSTART;TZID=Europe/Brussels:20201224T190000
DTEND;TZID=Europe/Brussels:20201224T200000
DTSTAMP:20260422T110202
CREATED:20201218T145638Z
LAST-MODIFIED:20201218T145638Z
UID:10378-1608836400-1608840000@paroissesaintemariemadeleine.be
SUMMARY:Messe de la nuit de Noël à Jumet-Gohyssart
DESCRIPTION:19h00 : Messe de la nuit de Noël à Jumet-Gohyssart
URL:https://paroissesaintemariemadeleine.be/agenda-up/messe-de-la-nuit-de-noel-a-jumet-gohyssart/
LOCATION:Eglise de Gohyssart\, Place du Ballon \, Jumet Gohyssart\, Hainaut\, 6040\, Belgique
END:VEVENT
BEGIN:VEVENT
DTSTART;TZID=Europe/Brussels:20201225T083000
DTEND;TZID=Europe/Brussels:20201225T093000
DTSTAMP:20260422T110202
CREATED:20201218T145736Z
LAST-MODIFIED:20201218T150412Z
UID:10380-1608885000-1608888600@paroissesaintemariemadeleine.be
SUMMARY:Noël\, célébration du jour : Jumet Gohyssart
DESCRIPTION:Vendredi 25 décembre : Noël\, célébration du jour  \n08h30 : Jumet Gohyssart
URL:https://paroissesaintemariemadeleine.be/agenda-up/noel-celebration-du-jour/
LOCATION:Eglise de Gohyssart\, Place du Ballon \, Jumet Gohyssart\, Hainaut\, 6040\, Belgique
END:VEVENT
BEGIN:VEVENT
DTSTART;TZID=Europe/Brussels:20201225T093000
DTEND;TZID=Europe/Brussels:20201225T103000
DTSTAMP:20260422T110202
CREATED:20201218T145858Z
LAST-MODIFIED:20201218T150329Z
UID:10382-1608888600-1608892200@paroissesaintemariemadeleine.be
SUMMARY:Noël\, célébration du jour: Jumet Houbois ; La Docherie ; la Bassée
DESCRIPTION:Vendredi 25 décembre : Noël\, célébration du jour  \n09h30 : Jumet Houbois ; La Docherie ; la Bassée
URL:https://paroissesaintemariemadeleine.be/agenda-up/noel-celebration-du-jour-2/
LOCATION:Eglise de la Docherie\, Place Astrid\, La Docherie\, Hainaut\, 6030\, Belgique
END:VEVENT
BEGIN:VEVENT
DTSTART;TZID=Europe/Brussels:20201225T110000
DTEND;TZID=Europe/Brussels:20201225T120000
DTSTAMP:20260422T110202
CREATED:20201218T145948Z
LAST-MODIFIED:20201218T150255Z
UID:10384-1608894000-1608897600@paroissesaintemariemadeleine.be
SUMMARY:Noël\, célébration du jour : Dampremy ; Heigne ; Roux ; Gohyssart
DESCRIPTION:11h00 : Dampremy ; Heigne ; Roux ; Gohyssart
URL:https://paroissesaintemariemadeleine.be/agenda-up/noel-celebration-du-jour-3/
LOCATION:Eglise de Gohyssart et de Roux
END:VEVENT
END:VCALENDAR