BEGIN:VCALENDAR
VERSION:2.0
PRODID:-//UNITE PASTORALE Sainte-Marie-Madeleine - ECPv6.15.20//NONSGML v1.0//EN
CALSCALE:GREGORIAN
METHOD:PUBLISH
X-ORIGINAL-URL:https://paroissesaintemariemadeleine.be
X-WR-CALDESC:Évènements pour UNITE PASTORALE Sainte-Marie-Madeleine
REFRESH-INTERVAL;VALUE=DURATION:PT1H
X-Robots-Tag:noindex
X-PUBLISHED-TTL:PT1H
BEGIN:VTIMEZONE
TZID:Europe/Brussels
BEGIN:DAYLIGHT
TZOFFSETFROM:+0100
TZOFFSETTO:+0200
TZNAME:CEST
DTSTART:20200329T010000
END:DAYLIGHT
BEGIN:STANDARD
TZOFFSETFROM:+0200
TZOFFSETTO:+0100
TZNAME:CET
DTSTART:20201025T010000
END:STANDARD
BEGIN:DAYLIGHT
TZOFFSETFROM:+0100
TZOFFSETTO:+0200
TZNAME:CEST
DTSTART:20210328T010000
END:DAYLIGHT
BEGIN:STANDARD
TZOFFSETFROM:+0200
TZOFFSETTO:+0100
TZNAME:CET
DTSTART:20211031T010000
END:STANDARD
BEGIN:DAYLIGHT
TZOFFSETFROM:+0100
TZOFFSETTO:+0200
TZNAME:CEST
DTSTART:20220327T010000
END:DAYLIGHT
BEGIN:STANDARD
TZOFFSETFROM:+0200
TZOFFSETTO:+0100
TZNAME:CET
DTSTART:20221030T010000
END:STANDARD
END:VTIMEZONE
BEGIN:VEVENT
DTSTART;TZID=Europe/Brussels:20210401T180000
DTEND;TZID=Europe/Brussels:20210401T190000
DTSTAMP:20260422T053136
CREATED:20210308T110440Z
LAST-MODIFIED:20210308T110440Z
UID:10603-1617300000-1617303600@paroissesaintemariemadeleine.be
SUMMARY:Jeudi Saint : messe à 18h00 à la Docherie\, Heigne et Houbois
DESCRIPTION:Jeudi Saint : messe à 18h00 à la Docherie\,  à Heigne et à Houbois \nInscription obligatoire au 0488/06 16 89
URL:https://paroissesaintemariemadeleine.be/agenda-up/jeudi-saint-messe-a-18h00-a-la-docherie-heigne-et-houbois/
END:VEVENT
BEGIN:VEVENT
DTSTART;TZID=Europe/Brussels:20210402T150000
DTEND;TZID=Europe/Brussels:20210402T163000
DTSTAMP:20260422T053136
CREATED:20210308T111511Z
LAST-MODIFIED:20210308T111618Z
UID:10605-1617375600-1617381000@paroissesaintemariemadeleine.be
SUMMARY:Vendredi Saint : Chemin de croix à 15h00 à Dampremy\, à la Docherie\, à Gohyssart\, à Roux
DESCRIPTION:Vendredi Saint :  \nChemin de croix à 15h00 à Dampremy\, à la Docherie\, à Gohyssart\, et à Roux   \n\nInscription obligatoire au 0488/06 16 89
URL:https://paroissesaintemariemadeleine.be/agenda-up/vendredi-saint-chemin-de-croix-a-15h00-a-dampremy-a-la-docherie-a-gohyssart-a-roux/
END:VEVENT
BEGIN:VEVENT
DTSTART;TZID=Europe/Brussels:20210402T180000
DTEND;TZID=Europe/Brussels:20210402T193000
DTSTAMP:20260422T053136
CREATED:20210308T111701Z
LAST-MODIFIED:20210308T111701Z
UID:10607-1617386400-1617391800@paroissesaintemariemadeleine.be
SUMMARY:-	Célébration de la passion à 18h00 à Dampremy\, à la Docherie et à Roux
DESCRIPTION:Célébration de la passion à 18h00 à Dampremy\, à la Docherie et à Roux
URL:https://paroissesaintemariemadeleine.be/agenda-up/celebration-de-la-passion-a-18h00-a-dampremy-a-la-docherie-et-a-roux/
END:VEVENT
BEGIN:VEVENT
DTSTART;TZID=Europe/Brussels:20210403T190000
DTEND;TZID=Europe/Brussels:20210403T210000
DTSTAMP:20260422T053136
CREATED:20210308T111830Z
LAST-MODIFIED:20210308T111830Z
UID:10609-1617476400-1617483600@paroissesaintemariemadeleine.be
SUMMARY:Samedi Saint\, Vigile Pascale à 19h00 à Gohyssart\, à Roux et à Try-Charly
DESCRIPTION:Samedi Saint\, Vigile Pascale à 19h00 à Gohyssart\, à Roux et à Try-Charly \nInscription obligatoire au 0488/06 16 89
URL:https://paroissesaintemariemadeleine.be/agenda-up/samedi-saint-vigile-pascale-a-19h00-a-gohyssart-a-roux-et-a-try-charly/
END:VEVENT
BEGIN:VEVENT
DTSTART;VALUE=DATE:20210404
DTEND;VALUE=DATE:20210406
DTSTAMP:20260422T053136
CREATED:20210308T111916Z
LAST-MODIFIED:20210308T111916Z
UID:10611-1617508800-1617595199@paroissesaintemariemadeleine.be
SUMMARY:Résurrection du Seigneur : Messe dans tous les clochers aux heures habituelles du week-end.
DESCRIPTION:Résurrection du Seigneur : Messe dans tous les clochers aux heures habituelles du week-end. \nInscription obligatoire au 0488/06 16 89
URL:https://paroissesaintemariemadeleine.be/agenda-up/resurrection-du-seigneur-messe-dans-tous-les-clochers-aux-heures-habituelles-du-week-end/
END:VEVENT
END:VCALENDAR