BEGIN:VCALENDAR
VERSION:2.0
PRODID:-//UNITE PASTORALE Sainte-Marie-Madeleine - ECPv6.15.20//NONSGML v1.0//EN
CALSCALE:GREGORIAN
METHOD:PUBLISH
X-WR-CALNAME:UNITE PASTORALE Sainte-Marie-Madeleine
X-ORIGINAL-URL:https://paroissesaintemariemadeleine.be
X-WR-CALDESC:Évènements pour UNITE PASTORALE Sainte-Marie-Madeleine
REFRESH-INTERVAL;VALUE=DURATION:PT1H
X-Robots-Tag:noindex
X-PUBLISHED-TTL:PT1H
BEGIN:VTIMEZONE
TZID:Europe/Brussels
BEGIN:DAYLIGHT
TZOFFSETFROM:+0100
TZOFFSETTO:+0200
TZNAME:CEST
DTSTART:20200329T010000
END:DAYLIGHT
BEGIN:STANDARD
TZOFFSETFROM:+0200
TZOFFSETTO:+0100
TZNAME:CET
DTSTART:20201025T010000
END:STANDARD
BEGIN:DAYLIGHT
TZOFFSETFROM:+0100
TZOFFSETTO:+0200
TZNAME:CEST
DTSTART:20210328T010000
END:DAYLIGHT
BEGIN:STANDARD
TZOFFSETFROM:+0200
TZOFFSETTO:+0100
TZNAME:CET
DTSTART:20211031T010000
END:STANDARD
BEGIN:DAYLIGHT
TZOFFSETFROM:+0100
TZOFFSETTO:+0200
TZNAME:CEST
DTSTART:20220327T010000
END:DAYLIGHT
BEGIN:STANDARD
TZOFFSETFROM:+0200
TZOFFSETTO:+0100
TZNAME:CET
DTSTART:20221030T010000
END:STANDARD
END:VTIMEZONE
BEGIN:VEVENT
DTSTART;TZID=Europe/Brussels:20210512T173000
DTEND;TZID=Europe/Brussels:20210512T183000
DTSTAMP:20260422T042721
CREATED:20210430T095125Z
LAST-MODIFIED:20210430T095125Z
UID:10775-1620840600-1620844200@paroissesaintemariemadeleine.be
SUMMARY:Messe de l'ascension (veille) à Chef Lieu et à Lodelinsart
DESCRIPTION:17h30 : Messe à Chef Lieu et à Lodelinsart \n18h00 : Messe à Gohyssart
URL:https://paroissesaintemariemadeleine.be/agenda-up/messe-de-lascension-veille-a-chef-lieu-et-a-lodelinsart/
END:VEVENT
BEGIN:VEVENT
DTSTART;TZID=Europe/Brussels:20210512T180000
DTEND;TZID=Europe/Brussels:20210512T190000
DTSTAMP:20260422T042721
CREATED:20210430T095226Z
LAST-MODIFIED:20210430T095226Z
UID:10777-1620842400-1620846000@paroissesaintemariemadeleine.be
SUMMARY:Messe de l'Ascension (veille) à Gohyssart
DESCRIPTION:Messe à 18h00 à Gohyssart
URL:https://paroissesaintemariemadeleine.be/agenda-up/messe-de-lascension-veille-a-gohyssart/
END:VEVENT
BEGIN:VEVENT
DTSTART;TZID=Europe/Brussels:20210513T110000
DTEND;TZID=Europe/Brussels:20210513T120000
DTSTAMP:20260422T042721
CREATED:20210430T094856Z
LAST-MODIFIED:20210430T094856Z
UID:10773-1620903600-1620907200@paroissesaintemariemadeleine.be
SUMMARY:Messe de l'Ascension du Seigneur à Roux -Gohyssart - Dampremy
DESCRIPTION:Messe de l’ascension à 11h00 à Roux\, à Gohyssart et à Dampremy
URL:https://paroissesaintemariemadeleine.be/agenda-up/messe-de-lascension-du-seigneur-a-roux-gohyssart-dampremy/
END:VEVENT
END:VCALENDAR