BEGIN:VCALENDAR
VERSION:2.0
PRODID:-//UNITE PASTORALE Sainte-Marie-Madeleine - ECPv6.15.20//NONSGML v1.0//EN
CALSCALE:GREGORIAN
METHOD:PUBLISH
X-ORIGINAL-URL:https://paroissesaintemariemadeleine.be
X-WR-CALDESC:Évènements pour UNITE PASTORALE Sainte-Marie-Madeleine
REFRESH-INTERVAL;VALUE=DURATION:PT1H
X-Robots-Tag:noindex
X-PUBLISHED-TTL:PT1H
BEGIN:VTIMEZONE
TZID:Europe/Brussels
BEGIN:DAYLIGHT
TZOFFSETFROM:+0100
TZOFFSETTO:+0200
TZNAME:CEST
DTSTART:20200329T010000
END:DAYLIGHT
BEGIN:STANDARD
TZOFFSETFROM:+0200
TZOFFSETTO:+0100
TZNAME:CET
DTSTART:20201025T010000
END:STANDARD
BEGIN:DAYLIGHT
TZOFFSETFROM:+0100
TZOFFSETTO:+0200
TZNAME:CEST
DTSTART:20210328T010000
END:DAYLIGHT
BEGIN:STANDARD
TZOFFSETFROM:+0200
TZOFFSETTO:+0100
TZNAME:CET
DTSTART:20211031T010000
END:STANDARD
BEGIN:DAYLIGHT
TZOFFSETFROM:+0100
TZOFFSETTO:+0200
TZNAME:CEST
DTSTART:20220327T010000
END:DAYLIGHT
BEGIN:STANDARD
TZOFFSETFROM:+0200
TZOFFSETTO:+0100
TZNAME:CET
DTSTART:20221030T010000
END:STANDARD
END:VTIMEZONE
BEGIN:VEVENT
DTSTART;TZID=Europe/Brussels:20210618T093000
DTEND;TZID=Europe/Brussels:20210618T120000
DTSTAMP:20260422T031327
CREATED:20210603T124657Z
LAST-MODIFIED:20210606T072523Z
UID:10811-1624008600-1624017600@paroissesaintemariemadeleine.be
SUMMARY:Migrants et réfugiés : ces autres oubliés ?
DESCRIPTION:Ce webinaire se tiendra le 18 juin\, de 9h30 à 12h\, avec comme invités l’anthropologue Jacinthe Mazzocchetti et le directeur de JRS Belgium Baudouin Van Overstraeten. \nLe nombre de places est limité afin de favoriser les interactions. \n  \nInscriptions : charleroi@entraide.be (le lien de connexion sera envoyé la veille aux personnes inscrites).
URL:https://paroissesaintemariemadeleine.be/agenda-up/migrants-et-refugies-ces-autres-oublies/
LOCATION:WEBINAIRE\, INTERNET\, Belgique
ORGANIZER;CN="VIVRE ENSEMBLE":MAILTO:renato.pinto@entraide.be
END:VEVENT
END:VCALENDAR