BEGIN:VCALENDAR
VERSION:2.0
PRODID:-//UNITE PASTORALE Sainte-Marie-Madeleine - ECPv6.15.20//NONSGML v1.0//EN
CALSCALE:GREGORIAN
METHOD:PUBLISH
X-ORIGINAL-URL:https://paroissesaintemariemadeleine.be
X-WR-CALDESC:Évènements pour UNITE PASTORALE Sainte-Marie-Madeleine
REFRESH-INTERVAL;VALUE=DURATION:PT1H
X-Robots-Tag:noindex
X-PUBLISHED-TTL:PT1H
BEGIN:VTIMEZONE
TZID:Europe/Brussels
BEGIN:DAYLIGHT
TZOFFSETFROM:+0100
TZOFFSETTO:+0200
TZNAME:CEST
DTSTART:20200329T010000
END:DAYLIGHT
BEGIN:STANDARD
TZOFFSETFROM:+0200
TZOFFSETTO:+0100
TZNAME:CET
DTSTART:20201025T010000
END:STANDARD
BEGIN:DAYLIGHT
TZOFFSETFROM:+0100
TZOFFSETTO:+0200
TZNAME:CEST
DTSTART:20210328T010000
END:DAYLIGHT
BEGIN:STANDARD
TZOFFSETFROM:+0200
TZOFFSETTO:+0100
TZNAME:CET
DTSTART:20211031T010000
END:STANDARD
BEGIN:DAYLIGHT
TZOFFSETFROM:+0100
TZOFFSETTO:+0200
TZNAME:CEST
DTSTART:20220327T010000
END:DAYLIGHT
BEGIN:STANDARD
TZOFFSETFROM:+0200
TZOFFSETTO:+0100
TZNAME:CET
DTSTART:20221030T010000
END:STANDARD
END:VTIMEZONE
BEGIN:VEVENT
DTSTART;TZID=Europe/Brussels:20211201T090000
DTEND;TZID=Europe/Brussels:20211201T163000
DTSTAMP:20260421T194006
CREATED:20211024T093814Z
LAST-MODIFIED:20211024T093921Z
UID:11032-1638349200-1638376200@paroissesaintemariemadeleine.be
SUMMARY:Journée de réflexion et d’échange sur le thème de l’immigration : des murs ou des ponts?
DESCRIPTION:Des murs ou des ponts ? \nJournée de réflexion et d’échange sur le thème de l’immigration \nQuelles sont les réalités de la migration ? Quelles sont les idées reçues ? Comment me positionner\, comment réagir lorsque je me sens interpellé ? \nUne journée pour poser des questions\, s’exprimer\, rencontrer et s’informer. Une journée pour bousculer nos certitudes… ou renforcer nos convictions ! \n  \nLe mercredi 1er décembre de 9h à 16h30  \nRue J. Lefèvre 59\, 6030 Marchienne-au-Pont \nPAF libre – Chaque participant apporte son pique-nique. \n  \nInscriptions obligatoires (nombre de places limité) : 0473 31 07 46 – charleroi@entraide.be
URL:https://paroissesaintemariemadeleine.be/agenda-up/11032/
LOCATION:Maison Pour Association\, route de Mons\, Marchienne Au Pont\, Hainaut\, 6030\, Belgique
ORGANIZER;CN="Entraide et Fraternit%C3%A9/Vivre Ensemble":MAILTO:renato.pinto@entraide.be
END:VEVENT
BEGIN:VEVENT
DTSTART;TZID=Europe/Brussels:20211211T090000
DTEND;TZID=Europe/Brussels:20211211T170000
DTSTAMP:20260421T194006
CREATED:20211204T094049Z
LAST-MODIFIED:20211209T094715Z
UID:11117-1639213200-1639242000@paroissesaintemariemadeleine.be
SUMMARY:Exposition de crèches  ANNULEE
DESCRIPTION:
URL:https://paroissesaintemariemadeleine.be/agenda-up/exposition-de-creches/
LOCATION:Eglise de Gohyssart\, Place du Ballon \, Jumet Gohyssart\, Hainaut\, 6040\, Belgique
END:VEVENT
BEGIN:VEVENT
DTSTART;TZID=Europe/Brussels:20211212T090000
DTEND;TZID=Europe/Brussels:20211212T170000
DTSTAMP:20260421T194006
CREATED:20211204T094216Z
LAST-MODIFIED:20211209T094420Z
UID:11119-1639299600-1639328400@paroissesaintemariemadeleine.be
SUMMARY:Exposition de crèches  ANNULEE
DESCRIPTION:
URL:https://paroissesaintemariemadeleine.be/agenda-up/exposition-de-creches-2/
LOCATION:Eglise de Gohyssart\, Place du Ballon \, Jumet Gohyssart\, Hainaut\, 6040\, Belgique
END:VEVENT
BEGIN:VEVENT
DTSTART;TZID=Europe/Brussels:20211213T090000
DTEND;TZID=Europe/Brussels:20211213T120000
DTSTAMP:20260421T194006
CREATED:20211204T094333Z
LAST-MODIFIED:20211209T094203Z
UID:11121-1639386000-1639396800@paroissesaintemariemadeleine.be
SUMMARY:Exposition de crèches  ANNULEE
DESCRIPTION:
URL:https://paroissesaintemariemadeleine.be/agenda-up/exposition-de-creches-3/
LOCATION:Eglise de Gohyssart\, Place du Ballon \, Jumet Gohyssart\, Hainaut\, 6040\, Belgique
END:VEVENT
BEGIN:VEVENT
DTSTART;TZID=Europe/Brussels:20211219T123000
DTEND;TZID=Europe/Brussels:20211219T190000
DTSTAMP:20260421T194006
CREATED:20211204T090450Z
LAST-MODIFIED:20211209T094111Z
UID:11113-1639917000-1639940400@paroissesaintemariemadeleine.be
SUMMARY:Marché de Noël  ANNULE
DESCRIPTION:
URL:https://paroissesaintemariemadeleine.be/agenda-up/marche-de-noel/
LOCATION:Maison de tous\, place du Ballon\, Jumet Gohyssart\, Hainaut\, Belgique
END:VEVENT
BEGIN:VEVENT
DTSTART;TZID=Europe/Brussels:20211220T090000
DTEND;TZID=Europe/Brussels:20211220T130000
DTSTAMP:20260421T194006
CREATED:20211204T090617Z
LAST-MODIFIED:20211209T094338Z
UID:11115-1639990800-1640005200@paroissesaintemariemadeleine.be
SUMMARY:Marché de Noël  ANNULE
DESCRIPTION:
URL:https://paroissesaintemariemadeleine.be/agenda-up/marche-de-noel-2/
LOCATION:Maison de tous\, place du Ballon\, Jumet Gohyssart\, Hainaut\, Belgique
END:VEVENT
END:VCALENDAR