BEGIN:VCALENDAR
VERSION:2.0
PRODID:-//UNITE PASTORALE Sainte-Marie-Madeleine - ECPv6.15.20//NONSGML v1.0//EN
CALSCALE:GREGORIAN
METHOD:PUBLISH
X-WR-CALNAME:UNITE PASTORALE Sainte-Marie-Madeleine
X-ORIGINAL-URL:https://paroissesaintemariemadeleine.be
X-WR-CALDESC:Évènements pour UNITE PASTORALE Sainte-Marie-Madeleine
REFRESH-INTERVAL;VALUE=DURATION:PT1H
X-Robots-Tag:noindex
X-PUBLISHED-TTL:PT1H
BEGIN:VTIMEZONE
TZID:Europe/Brussels
BEGIN:DAYLIGHT
TZOFFSETFROM:+0100
TZOFFSETTO:+0200
TZNAME:CEST
DTSTART:20210328T010000
END:DAYLIGHT
BEGIN:STANDARD
TZOFFSETFROM:+0200
TZOFFSETTO:+0100
TZNAME:CET
DTSTART:20211031T010000
END:STANDARD
BEGIN:DAYLIGHT
TZOFFSETFROM:+0100
TZOFFSETTO:+0200
TZNAME:CEST
DTSTART:20220327T010000
END:DAYLIGHT
BEGIN:STANDARD
TZOFFSETFROM:+0200
TZOFFSETTO:+0100
TZNAME:CET
DTSTART:20221030T010000
END:STANDARD
BEGIN:DAYLIGHT
TZOFFSETFROM:+0100
TZOFFSETTO:+0200
TZNAME:CEST
DTSTART:20230326T010000
END:DAYLIGHT
BEGIN:STANDARD
TZOFFSETFROM:+0200
TZOFFSETTO:+0100
TZNAME:CET
DTSTART:20231029T010000
END:STANDARD
END:VTIMEZONE
BEGIN:VEVENT
DTSTART;TZID=Europe/Brussels:20220202T183000
DTEND;TZID=Europe/Brussels:20220202T203000
DTSTAMP:20260421T171721
CREATED:20220127T103540Z
LAST-MODIFIED:20220127T103540Z
UID:11262-1643826600-1643833800@paroissesaintemariemadeleine.be
SUMMARY:Formation Cefoc : en route pour questionner le sens de la vie
DESCRIPTION:
URL:https://paroissesaintemariemadeleine.be/agenda-up/formation-cefoc-en-route-pour-questionner-le-sens-de-la-vie/
LOCATION:Pôle jeunesse\, rue Lecomte\, 41\, Dampremy\, 6020\, Belgique
END:VEVENT
BEGIN:VEVENT
DTSTART;TZID=Europe/Brussels:20220205T170000
DTEND;TZID=Europe/Brussels:20220205T180000
DTSTAMP:20260421T171721
CREATED:20220118T124137Z
LAST-MODIFIED:20220118T124137Z
UID:11231-1644080400-1644084000@paroissesaintemariemadeleine.be
SUMMARY:Veillée de louange à l'occasion de la chandeleur
DESCRIPTION:
URL:https://paroissesaintemariemadeleine.be/agenda-up/veillee-de-louange-a-loccasion-de-la-chandeleur/
LOCATION:Eglise de Jumet Houbois\, place Matteotti\, Jumet Houbois\, 6040
END:VEVENT
BEGIN:VEVENT
DTSTART;TZID=Europe/Brussels:20220215T183000
DTEND;TZID=Europe/Brussels:20220215T203000
DTSTAMP:20260421T171722
CREATED:20220211T143513Z
LAST-MODIFIED:20220211T143518Z
UID:11347-1644949800-1644957000@paroissesaintemariemadeleine.be
SUMMARY:Soirée Arc En Terres sur l'euthanasie
DESCRIPTION:
URL:https://paroissesaintemariemadeleine.be/agenda-up/soiree-arc-en-terres-sur-leuthanasie/
LOCATION:Maison paroissiale de la Docherie\, place Reine Astrid\,9\, Marchienne Docherie\, Hainaut\, 6030\, Belgique
END:VEVENT
END:VCALENDAR