BEGIN:VCALENDAR
VERSION:2.0
PRODID:-//UNITE PASTORALE Sainte-Marie-Madeleine - ECPv6.15.20//NONSGML v1.0//EN
CALSCALE:GREGORIAN
METHOD:PUBLISH
X-WR-CALNAME:UNITE PASTORALE Sainte-Marie-Madeleine
X-ORIGINAL-URL:https://paroissesaintemariemadeleine.be
X-WR-CALDESC:Évènements pour UNITE PASTORALE Sainte-Marie-Madeleine
REFRESH-INTERVAL;VALUE=DURATION:PT1H
X-Robots-Tag:noindex
X-PUBLISHED-TTL:PT1H
BEGIN:VTIMEZONE
TZID:Europe/Brussels
BEGIN:DAYLIGHT
TZOFFSETFROM:+0100
TZOFFSETTO:+0200
TZNAME:CEST
DTSTART:20210328T010000
END:DAYLIGHT
BEGIN:STANDARD
TZOFFSETFROM:+0200
TZOFFSETTO:+0100
TZNAME:CET
DTSTART:20211031T010000
END:STANDARD
BEGIN:DAYLIGHT
TZOFFSETFROM:+0100
TZOFFSETTO:+0200
TZNAME:CEST
DTSTART:20220327T010000
END:DAYLIGHT
BEGIN:STANDARD
TZOFFSETFROM:+0200
TZOFFSETTO:+0100
TZNAME:CET
DTSTART:20221030T010000
END:STANDARD
BEGIN:DAYLIGHT
TZOFFSETFROM:+0100
TZOFFSETTO:+0200
TZNAME:CEST
DTSTART:20230326T010000
END:DAYLIGHT
BEGIN:STANDARD
TZOFFSETFROM:+0200
TZOFFSETTO:+0100
TZNAME:CET
DTSTART:20231029T010000
END:STANDARD
END:VTIMEZONE
BEGIN:VEVENT
DTSTART;TZID=Europe/Brussels:20220303T193000
DTEND;TZID=Europe/Brussels:20220303T213000
DTSTAMP:20260421T160307
CREATED:20220209T161120Z
LAST-MODIFIED:20220209T161120Z
UID:11336-1646335800-1646343000@paroissesaintemariemadeleine.be
SUMMARY:Conférence de carême : les arbres qui marchent
DESCRIPTION:
URL:https://paroissesaintemariemadeleine.be/agenda-up/conference-de-careme-les-arbres-qui-marchent-6/
LOCATION:Chapelle du Sacré Coeur (Jésuites)\, Rue de Montigny\, Charleroi\, Hainaut\, 6000
END:VEVENT
BEGIN:VEVENT
DTSTART;TZID=Europe/Brussels:20220316T193000
DTEND;TZID=Europe/Brussels:20220316T210000
DTSTAMP:20260421T160307
CREATED:20220209T160701Z
LAST-MODIFIED:20220209T160701Z
UID:11328-1647459000-1647464400@paroissesaintemariemadeleine.be
SUMMARY:Conférence de carême : les arbres qui marchent
DESCRIPTION:
URL:https://paroissesaintemariemadeleine.be/agenda-up/conference-de-careme-les-arbres-qui-marchent-2/
LOCATION:Chapelle du Sacré Coeur (Jésuites)\, Rue de Montigny\, Charleroi\, Hainaut\, 6000
END:VEVENT
BEGIN:VEVENT
DTSTART;TZID=Europe/Brussels:20220323T190000
DTEND;TZID=Europe/Brussels:20220323T223000
DTSTAMP:20260421T160307
CREATED:20220316T152249Z
LAST-MODIFIED:20220316T152249Z
UID:11419-1648062000-1648074600@paroissesaintemariemadeleine.be
SUMMARY:conférence-débat « Le Monopoly des terres agricoles »
DESCRIPTION:
URL:https://paroissesaintemariemadeleine.be/agenda-up/conference-debat-le-monopoly-des-terres-agricoles/
LOCATION:Atelier FUCAM\, Rue des Sœurs Noires\, 2\, Mons\, Hainaut\, 7000\, Belgique
ORGANIZER;CN="Entraide et Fraternit%C3%A9/Vivre Ensemble":MAILTO:renato.pinto@entraide.be
END:VEVENT
BEGIN:VEVENT
DTSTART;TZID=Europe/Brussels:20220323T193000
DTEND;TZID=Europe/Brussels:20220323T213000
DTSTAMP:20260421T160307
CREATED:20220209T160812Z
LAST-MODIFIED:20220209T160812Z
UID:11330-1648063800-1648071000@paroissesaintemariemadeleine.be
SUMMARY:Conférence de carême : les arbres qui marchent
DESCRIPTION:
URL:https://paroissesaintemariemadeleine.be/agenda-up/conference-de-careme-les-arbres-qui-marchent-3/
LOCATION:Chapelle du Sacré Coeur (Jésuites)\, Rue de Montigny\, Charleroi\, Hainaut\, 6000
END:VEVENT
BEGIN:VEVENT
DTSTART;TZID=Europe/Brussels:20220323T193000
DTEND;TZID=Europe/Brussels:20220323T213000
DTSTAMP:20260421T160307
CREATED:20220312T103633Z
LAST-MODIFIED:20220312T103814Z
UID:11396-1648063800-1648071000@paroissesaintemariemadeleine.be
SUMMARY:Conférence : Quelle terre pour nos enfants?
DESCRIPTION:
URL:https://paroissesaintemariemadeleine.be/agenda-up/conference-quelle-terre-pour-nos-enfants/
LOCATION:Eglise Saint Martin Montignies le Tilleul
END:VEVENT
END:VCALENDAR