BEGIN:VCALENDAR
VERSION:2.0
PRODID:-//UNITE PASTORALE Sainte-Marie-Madeleine - ECPv6.15.20//NONSGML v1.0//EN
CALSCALE:GREGORIAN
METHOD:PUBLISH
X-ORIGINAL-URL:https://paroissesaintemariemadeleine.be
X-WR-CALDESC:Évènements pour UNITE PASTORALE Sainte-Marie-Madeleine
REFRESH-INTERVAL;VALUE=DURATION:PT1H
X-Robots-Tag:noindex
X-PUBLISHED-TTL:PT1H
BEGIN:VTIMEZONE
TZID:Europe/Brussels
BEGIN:DAYLIGHT
TZOFFSETFROM:+0100
TZOFFSETTO:+0200
TZNAME:CEST
DTSTART:20210328T010000
END:DAYLIGHT
BEGIN:STANDARD
TZOFFSETFROM:+0200
TZOFFSETTO:+0100
TZNAME:CET
DTSTART:20211031T010000
END:STANDARD
BEGIN:DAYLIGHT
TZOFFSETFROM:+0100
TZOFFSETTO:+0200
TZNAME:CEST
DTSTART:20220327T010000
END:DAYLIGHT
BEGIN:STANDARD
TZOFFSETFROM:+0200
TZOFFSETTO:+0100
TZNAME:CET
DTSTART:20221030T010000
END:STANDARD
BEGIN:DAYLIGHT
TZOFFSETFROM:+0100
TZOFFSETTO:+0200
TZNAME:CEST
DTSTART:20230326T010000
END:DAYLIGHT
BEGIN:STANDARD
TZOFFSETFROM:+0200
TZOFFSETTO:+0100
TZNAME:CET
DTSTART:20231029T010000
END:STANDARD
END:VTIMEZONE
BEGIN:VEVENT
DTSTART;TZID=Europe/Brussels:20220406T193000
DTEND;TZID=Europe/Brussels:20220406T213000
DTSTAMP:20260421T143501
CREATED:20220209T160901Z
LAST-MODIFIED:20220209T160901Z
UID:11332-1649273400-1649280600@paroissesaintemariemadeleine.be
SUMMARY:Conférence de carême : les arbres qui marchent
DESCRIPTION:
URL:https://paroissesaintemariemadeleine.be/agenda-up/conference-de-careme-les-arbres-qui-marchent-4/
LOCATION:Chapelle du Sacré Coeur (Jésuites)\, Rue de Montigny\, Charleroi\, Hainaut\, 6000
END:VEVENT
BEGIN:VEVENT
DTSTART;TZID=Europe/Brussels:20220421T200000
DTEND;TZID=Europe/Brussels:20220421T213000
DTSTAMP:20260421T143501
CREATED:20220405T144443Z
LAST-MODIFIED:20220405T144443Z
UID:11497-1650571200-1650576600@paroissesaintemariemadeleine.be
SUMMARY:Rupture du jeune du ramadan avec la communauté musulmane
DESCRIPTION:
URL:https://paroissesaintemariemadeleine.be/agenda-up/rupture-du-jeune-du-ramadan-avec-la-communaute-musulmane/
LOCATION:local\, rue de Jumet\, 175\, Marchienne Au Pont\, Hainaut\, 6030\, Belgique
END:VEVENT
BEGIN:VEVENT
DTSTART;TZID=Europe/Brussels:20220421T200000
DTEND;TZID=Europe/Brussels:20220421T220000
DTSTAMP:20260421T143501
CREATED:20220405T150549Z
LAST-MODIFIED:20220405T150630Z
UID:11501-1650571200-1650578400@paroissesaintemariemadeleine.be
SUMMARY:Soirée inter religieuse entre catholiques et musulmans
DESCRIPTION:
URL:https://paroissesaintemariemadeleine.be/agenda-up/soiree-inter-religieuse-entre-catholiques-et-musulmans/
LOCATION:local\, rue de Jumet\, 175\, Marchienne Au Pont\, Hainaut\, 6030\, Belgique
END:VEVENT
BEGIN:VEVENT
DTSTART;TZID=Europe/Brussels:20220424T123000
DTEND;TZID=Europe/Brussels:20220424T170000
DTSTAMP:20260421T143501
CREATED:20220325T144215Z
LAST-MODIFIED:20220325T144215Z
UID:11454-1650803400-1650819600@paroissesaintemariemadeleine.be
SUMMARY:Repas de fête du printemps à Dampremy
DESCRIPTION:
URL:https://paroissesaintemariemadeleine.be/agenda-up/repas-de-fete-du-printemps-a-dampremy/
LOCATION:Eglise Saint Rémy\, rue \, Dampremy\, 6020
END:VEVENT
BEGIN:VEVENT
DTSTART;TZID=Europe/Brussels:20220426T193000
DTEND;TZID=Europe/Brussels:20220426T213000
DTSTAMP:20260421T143501
CREATED:20220209T161011Z
LAST-MODIFIED:20220209T161011Z
UID:11334-1651001400-1651008600@paroissesaintemariemadeleine.be
SUMMARY:Conférence de carême : les arbres qui marchent
DESCRIPTION:
URL:https://paroissesaintemariemadeleine.be/agenda-up/conference-de-careme-les-arbres-qui-marchent-5/
LOCATION:Chapelle du Sacré Coeur (Jésuites)\, Rue de Montigny\, Charleroi\, Hainaut\, 6000
END:VEVENT
BEGIN:VEVENT
DTSTART;TZID=Europe/Brussels:20220430T163000
DTEND;TZID=Europe/Brussels:20220430T180000
DTSTAMP:20260421T143501
CREATED:20220409T121039Z
LAST-MODIFIED:20220409T121040Z
UID:11510-1651336200-1651341600@paroissesaintemariemadeleine.be
SUMMARY:Messe des familles catéchèse de cheminement à Roux
DESCRIPTION:
URL:https://paroissesaintemariemadeleine.be/agenda-up/messe-des-familles-catechese-de-cheminement-a-roux/
LOCATION:Eglise de Roux\, rue A. Lepage\, 1\, Roux\, 6044\, Belgique
END:VEVENT
END:VCALENDAR