BEGIN:VCALENDAR
VERSION:2.0
PRODID:-//UNITE PASTORALE Sainte-Marie-Madeleine - ECPv6.15.20//NONSGML v1.0//EN
CALSCALE:GREGORIAN
METHOD:PUBLISH
X-WR-CALNAME:UNITE PASTORALE Sainte-Marie-Madeleine
X-ORIGINAL-URL:https://paroissesaintemariemadeleine.be
X-WR-CALDESC:Évènements pour UNITE PASTORALE Sainte-Marie-Madeleine
REFRESH-INTERVAL;VALUE=DURATION:PT1H
X-Robots-Tag:noindex
X-PUBLISHED-TTL:PT1H
BEGIN:VTIMEZONE
TZID:Europe/Brussels
BEGIN:DAYLIGHT
TZOFFSETFROM:+0100
TZOFFSETTO:+0200
TZNAME:CEST
DTSTART:20210328T010000
END:DAYLIGHT
BEGIN:STANDARD
TZOFFSETFROM:+0200
TZOFFSETTO:+0100
TZNAME:CET
DTSTART:20211031T010000
END:STANDARD
BEGIN:DAYLIGHT
TZOFFSETFROM:+0100
TZOFFSETTO:+0200
TZNAME:CEST
DTSTART:20220327T010000
END:DAYLIGHT
BEGIN:STANDARD
TZOFFSETFROM:+0200
TZOFFSETTO:+0100
TZNAME:CET
DTSTART:20221030T010000
END:STANDARD
BEGIN:DAYLIGHT
TZOFFSETFROM:+0100
TZOFFSETTO:+0200
TZNAME:CEST
DTSTART:20230326T010000
END:DAYLIGHT
BEGIN:STANDARD
TZOFFSETFROM:+0200
TZOFFSETTO:+0100
TZNAME:CET
DTSTART:20231029T010000
END:STANDARD
END:VTIMEZONE
BEGIN:VEVENT
DTSTART;TZID=Europe/Brussels:20220510T193000
DTEND;TZID=Europe/Brussels:20220510T213000
DTSTAMP:20260421T130716
CREATED:20220209T161233Z
LAST-MODIFIED:20220209T161233Z
UID:11338-1652211000-1652218200@paroissesaintemariemadeleine.be
SUMMARY:Conférence de carême : les arbres qui marchent
DESCRIPTION:
URL:https://paroissesaintemariemadeleine.be/agenda-up/conference-de-careme-les-arbres-qui-marchent-7/
LOCATION:Chapelle du Sacré Coeur (Jésuites)\, Rue de Montigny\, Charleroi\, Hainaut\, 6000
END:VEVENT
BEGIN:VEVENT
DTSTART;TZID=Europe/Brussels:20220517T193000
DTEND;TZID=Europe/Brussels:20220517T213000
DTSTAMP:20260421T130717
CREATED:20220209T161742Z
LAST-MODIFIED:20220209T161742Z
UID:11340-1652815800-1652823000@paroissesaintemariemadeleine.be
SUMMARY:Conférence de carême : les arbres qui marchent
DESCRIPTION:
URL:https://paroissesaintemariemadeleine.be/agenda-up/conference-de-careme-les-arbres-qui-marchent-8/
END:VEVENT
BEGIN:VEVENT
DTSTART;TZID=Europe/Brussels:20220518T093000
DTEND;TZID=Europe/Brussels:20220518T163000
DTSTAMP:20260421T130717
CREATED:20220402T103412Z
LAST-MODIFIED:20220402T103412Z
UID:11491-1652866200-1652891400@paroissesaintemariemadeleine.be
SUMMARY:Migrants d'hier et d'aujourd'hui
DESCRIPTION:
URL:https://paroissesaintemariemadeleine.be/agenda-up/migrants-dhier-et-daujourdhui/
LOCATION:Centre FEDASIL\, Zoning industriel 2ème rue n°24\, Jumet\, Hainaut\, 6040\, Belgique
END:VEVENT
BEGIN:VEVENT
DTSTART;TZID=Europe/Brussels:20220525T173000
DTEND;TZID=Europe/Brussels:20220525T230000
DTSTAMP:20260421T130717
CREATED:20220524T121207Z
LAST-MODIFIED:20220524T121207Z
UID:11662-1653499800-1653519600@paroissesaintemariemadeleine.be
SUMMARY:Soirée sucré salé des pèlerins à la fête de Notre Dame Au Bois
DESCRIPTION:
URL:https://paroissesaintemariemadeleine.be/agenda-up/soiree-sucre-sale-des-pelerins-a-la-fete-de-notre-dame-au-bois/
LOCATION:chapelle Notre Dame au Bois\, rue de Marchienne\, Jumet\, Hainaut\, 6040\, Belgique
END:VEVENT
BEGIN:VEVENT
DTSTART;TZID=Europe/Brussels:20220526T100000
DTEND;TZID=Europe/Brussels:20220526T210000
DTSTAMP:20260421T130717
CREATED:20220524T121747Z
LAST-MODIFIED:20220524T121747Z
UID:11664-1653559200-1653598800@paroissesaintemariemadeleine.be
SUMMARY:Messe solennelle  suivie de la procession à Notre Dame Au Bois
DESCRIPTION:
URL:https://paroissesaintemariemadeleine.be/agenda-up/messe-solennelle-suivie-de-la-procession-a-notre-dame-au-bois/
LOCATION:Chapelle Notre Dame au Bois\, rue de Marchienne\, Jumet\, Hainaut\, 6040\, Belgique
END:VEVENT
BEGIN:VEVENT
DTSTART;TZID=Europe/Brussels:20220527T083000
DTEND;TZID=Europe/Brussels:20220604T183000
DTSTAMP:20260421T130717
CREATED:20220524T114955Z
LAST-MODIFIED:20220524T122300Z
UID:11651-1653640200-1654367400@paroissesaintemariemadeleine.be
SUMMARY:Neuvaine à Notre Dame Au Bois 8h30 messe / 18h chapelet
DESCRIPTION:Durant la neuvaine\, messe chaque jour à 8h30 et chapeler à 18h00  du vendredi 27 mai au samedi 4 juin 2022.
URL:https://paroissesaintemariemadeleine.be/agenda-up/neuvaine-a-notre-dame-au-bois/
LOCATION:Chapelle Notre Dame au Bois\, rue de Marchienne\, Jumet\, Hainaut\, 6040\, Belgique
END:VEVENT
BEGIN:VEVENT
DTSTART;TZID=Europe/Brussels:20220529T100000
DTEND;TZID=Europe/Brussels:20220529T220000
DTSTAMP:20260421T130717
CREATED:20220524T121928Z
LAST-MODIFIED:20220524T122117Z
UID:11666-1653818400-1653861600@paroissesaintemariemadeleine.be
SUMMARY:Messe solennelle en plein air suivi du repas Fête de N-D Au Bois
DESCRIPTION:
URL:https://paroissesaintemariemadeleine.be/agenda-up/bar-des-moines-a-la-ducasse-du-bos-fete-de-n-d-au-bois-2/
LOCATION:Chapelle Notre Dame au Bois\, rue de Marchienne\, Jumet\, Hainaut\, 6040\, Belgique
END:VEVENT
END:VCALENDAR