BEGIN:VCALENDAR
VERSION:2.0
PRODID:-//UNITE PASTORALE Sainte-Marie-Madeleine - ECPv6.15.20//NONSGML v1.0//EN
CALSCALE:GREGORIAN
METHOD:PUBLISH
X-WR-CALNAME:UNITE PASTORALE Sainte-Marie-Madeleine
X-ORIGINAL-URL:https://paroissesaintemariemadeleine.be
X-WR-CALDESC:Évènements pour UNITE PASTORALE Sainte-Marie-Madeleine
REFRESH-INTERVAL;VALUE=DURATION:PT1H
X-Robots-Tag:noindex
X-PUBLISHED-TTL:PT1H
BEGIN:VTIMEZONE
TZID:Europe/Brussels
BEGIN:DAYLIGHT
TZOFFSETFROM:+0100
TZOFFSETTO:+0200
TZNAME:CEST
DTSTART:20210328T010000
END:DAYLIGHT
BEGIN:STANDARD
TZOFFSETFROM:+0200
TZOFFSETTO:+0100
TZNAME:CET
DTSTART:20211031T010000
END:STANDARD
BEGIN:DAYLIGHT
TZOFFSETFROM:+0100
TZOFFSETTO:+0200
TZNAME:CEST
DTSTART:20220327T010000
END:DAYLIGHT
BEGIN:STANDARD
TZOFFSETFROM:+0200
TZOFFSETTO:+0100
TZNAME:CET
DTSTART:20221030T010000
END:STANDARD
BEGIN:DAYLIGHT
TZOFFSETFROM:+0100
TZOFFSETTO:+0200
TZNAME:CEST
DTSTART:20230326T010000
END:DAYLIGHT
BEGIN:STANDARD
TZOFFSETFROM:+0200
TZOFFSETTO:+0100
TZNAME:CET
DTSTART:20231029T010000
END:STANDARD
END:VTIMEZONE
BEGIN:VEVENT
DTSTART;TZID=Europe/Brussels:20220904T090000
DTEND;TZID=Europe/Brussels:20220904T143000
DTSTAMP:20260421T072549
CREATED:20220818T135700Z
LAST-MODIFIED:20220818T135700Z
UID:11856-1662282000-1662301800@paroissesaintemariemadeleine.be
SUMMARY:Matinée découverte à Dampremy
DESCRIPTION:
URL:https://paroissesaintemariemadeleine.be/agenda-up/matinee-decouverte-a-dampremy-2/
LOCATION:Eglise Saint Rémy\, rue \, Dampremy\, 6020
END:VEVENT
BEGIN:VEVENT
DTSTART;TZID=Europe/Brussels:20220912T183000
DTEND;TZID=Europe/Brussels:20220912T203000
DTSTAMP:20260421T072549
CREATED:20220910T101807Z
LAST-MODIFIED:20220910T101807Z
UID:11889-1663007400-1663014600@paroissesaintemariemadeleine.be
SUMMARY:Soirée Arc En Terres : « un pouvoir d’achat en baisse\, au risque de la survie »
DESCRIPTION:Lundi 12 septembre 2022 de 18h30 à 20h30 \nSoirée Arc En Terres sur le thème : un pouvoir d’achat en baisse\, au risque de la survie »\, à la\nmaison paroissiale de la Docherie\, Place reine Astrid 7\, à 6030\, Marchienne\nDocherie.
URL:https://paroissesaintemariemadeleine.be/agenda-up/soiree-arc-en-terres-un-pouvoir-dachat-en-baisse-au-risque-de-la-survie/
LOCATION:Maison paroissiale de la Docherie\, place Reine Astrid\,9\, Marchienne Docherie\, Hainaut\, 6030\, Belgique
END:VEVENT
BEGIN:VEVENT
DTSTART;VALUE=DATE:20220914
DTEND;VALUE=DATE:20220916
DTSTAMP:20260421T072549
CREATED:20220814T115510Z
LAST-MODIFIED:20220814T115510Z
UID:11773-1663128000-1663214399@paroissesaintemariemadeleine.be
SUMMARY:Journée spirituelle à Banneux
DESCRIPTION:
URL:https://paroissesaintemariemadeleine.be/agenda-up/journee-spirituelle-a-banneux-4/
LOCATION:Banneux
END:VEVENT
BEGIN:VEVENT
DTSTART;TZID=Europe/Brussels:20220915T190000
DTEND;TZID=Europe/Brussels:20220915T203000
DTSTAMP:20260421T072549
CREATED:20220910T101553Z
LAST-MODIFIED:20220910T101553Z
UID:11887-1663268400-1663273800@paroissesaintemariemadeleine.be
SUMMARY:Répétition chorale pour la messe de rentrée
DESCRIPTION:Jeudi 15 septembre 2022 à 19h00 : répétition de la chorale dans l’église de\nGohyssart. Ceux et celles qui veulent renforcer la chorale pour la messe\nunique du 18 septembre sont les bienvenus.
URL:https://paroissesaintemariemadeleine.be/agenda-up/repetition-chorale-pour-la-messe-de-rentree/
LOCATION:Eglise de Gohyssart\, Place du Ballon \, Jumet Gohyssart\, Hainaut\, 6040\, Belgique
END:VEVENT
BEGIN:VEVENT
DTSTART;TZID=Europe/Brussels:20220918T110000
DTEND;TZID=Europe/Brussels:20220918T123000
DTSTAMP:20260421T072549
CREATED:20220910T101256Z
LAST-MODIFIED:20220910T101259Z
UID:11885-1663498800-1663504200@paroissesaintemariemadeleine.be
SUMMARY:Messe de rentrée pastorale
DESCRIPTION:
URL:https://paroissesaintemariemadeleine.be/agenda-up/messe-de-rentree-pastorale/
LOCATION:Eglise de Gohyssart\, Place du Ballon \, Jumet Gohyssart\, Hainaut\, 6040\, Belgique
END:VEVENT
BEGIN:VEVENT
DTSTART;TZID=Europe/Brussels:20220918T123000
DTEND;TZID=Europe/Brussels:20220918T170000
DTSTAMP:20260421T072549
CREATED:20220818T145010Z
LAST-MODIFIED:20220818T145010Z
UID:11859-1663504200-1663520400@paroissesaintemariemadeleine.be
SUMMARY:Diner de rentrée pastorale
DESCRIPTION:
URL:https://paroissesaintemariemadeleine.be/agenda-up/diner-de-rentree-pastorale/
LOCATION:Maison de tous\, place du Ballon\, Jumet Gohyssart\, Hainaut\, Belgique
END:VEVENT
BEGIN:VEVENT
DTSTART;TZID=Europe/Brussels:20220921T190000
DTEND;TZID=Europe/Brussels:20220921T213000
DTSTAMP:20260421T072549
CREATED:20220910T101955Z
LAST-MODIFIED:20220910T101955Z
UID:11891-1663786800-1663795800@paroissesaintemariemadeleine.be
SUMMARY:Rencontre CEFOC : « Qu’est ce qui nous fait avancer malgré les obstacles de la vie »
DESCRIPTION:Mercredi 21 septembre 2022 de 19h00 à 21h30 : rencontre du CEFOC\,\nsur le thème : « Qu’est ce qui nous fait avancer malgré les obstacles de la\nvie »\, à la maison paroissiale de la Docherie\, Place reine Astrid 7\, à 6030\,\nMarchienne Docherie.
URL:https://paroissesaintemariemadeleine.be/agenda-up/rencontre-cefoc-quest-ce-qui-nous-fait-avancer-malgre-les-obstacles-de-la-vie/
LOCATION:Maison paroissiale de la Docherie\, place Reine Astrid\,9\, Marchienne Docherie\, Hainaut\, 6030\, Belgique
END:VEVENT
BEGIN:VEVENT
DTSTART;VALUE=DATE:20220925
DTEND;VALUE=DATE:20220927
DTSTAMP:20260421T072549
CREATED:20220815T075124Z
LAST-MODIFIED:20220815T075124Z
UID:11779-1664078400-1664164799@paroissesaintemariemadeleine.be
SUMMARY:Journée Mondiale des Migrants
DESCRIPTION:
URL:https://paroissesaintemariemadeleine.be/agenda-up/journee-mondiale-des-migrants-2/
END:VEVENT
BEGIN:VEVENT
DTSTART;TZID=Europe/Brussels:20220925T160000
DTEND;TZID=Europe/Brussels:20220925T183000
DTSTAMP:20260421T072549
CREATED:20220910T102104Z
LAST-MODIFIED:20220910T102128Z
UID:11893-1664121600-1664130600@paroissesaintemariemadeleine.be
SUMMARY:Concert à Jumet Gohyssart
DESCRIPTION:Dimanche 25 septembre 2022 : Concert par l’harmonie de Frameries et\nl’harmonie policière de Charleroi dans l’église de Gohyssart à 16h00.
URL:https://paroissesaintemariemadeleine.be/agenda-up/concert-a-jumet-gohyssart/
LOCATION:Eglise de Gohyssart\, Place du Ballon \, Jumet Gohyssart\, Hainaut\, 6040\, Belgique
END:VEVENT
BEGIN:VEVENT
DTSTART;TZID=Europe/Brussels:20220927T190000
DTEND;TZID=Europe/Brussels:20220927T210000
DTSTAMP:20260421T072549
CREATED:20220904T092330Z
LAST-MODIFIED:20220904T092330Z
UID:11871-1664305200-1664312400@paroissesaintemariemadeleine.be
SUMMARY:Inscription catéchèse de cheminement
DESCRIPTION:
URL:https://paroissesaintemariemadeleine.be/agenda-up/inscription-catechese-de-cheminement/
LOCATION:Pôle jeunesse\, rue Lecomte\, 41\, Dampremy\, 6020\, Belgique
END:VEVENT
BEGIN:VEVENT
DTSTART;TZID=Europe/Brussels:20220930T080000
DTEND;TZID=Europe/Brussels:20221002T230000
DTSTAMP:20260421T072549
CREATED:20220928T153620Z
LAST-MODIFIED:20220928T153620Z
UID:11949-1664524800-1664751600@paroissesaintemariemadeleine.be
SUMMARY:Ducasse Saint Remy à Dampremy
DESCRIPTION:
URL:https://paroissesaintemariemadeleine.be/agenda-up/ducasse-saint-remy-a-dampremy/
LOCATION:Place du Crawez\, Place du Crawez\, Dampremy\, Hainaut\, 6020\, Belgique
END:VEVENT
END:VCALENDAR