BEGIN:VCALENDAR
VERSION:2.0
PRODID:-//UNITE PASTORALE Sainte-Marie-Madeleine - ECPv6.15.20//NONSGML v1.0//EN
CALSCALE:GREGORIAN
METHOD:PUBLISH
X-WR-CALNAME:UNITE PASTORALE Sainte-Marie-Madeleine
X-ORIGINAL-URL:https://paroissesaintemariemadeleine.be
X-WR-CALDESC:Évènements pour UNITE PASTORALE Sainte-Marie-Madeleine
REFRESH-INTERVAL;VALUE=DURATION:PT1H
X-Robots-Tag:noindex
X-PUBLISHED-TTL:PT1H
BEGIN:VTIMEZONE
TZID:Europe/Brussels
BEGIN:DAYLIGHT
TZOFFSETFROM:+0100
TZOFFSETTO:+0200
TZNAME:CEST
DTSTART:20210328T010000
END:DAYLIGHT
BEGIN:STANDARD
TZOFFSETFROM:+0200
TZOFFSETTO:+0100
TZNAME:CET
DTSTART:20211031T010000
END:STANDARD
BEGIN:DAYLIGHT
TZOFFSETFROM:+0100
TZOFFSETTO:+0200
TZNAME:CEST
DTSTART:20220327T010000
END:DAYLIGHT
BEGIN:STANDARD
TZOFFSETFROM:+0200
TZOFFSETTO:+0100
TZNAME:CET
DTSTART:20221030T010000
END:STANDARD
BEGIN:DAYLIGHT
TZOFFSETFROM:+0100
TZOFFSETTO:+0200
TZNAME:CEST
DTSTART:20230326T010000
END:DAYLIGHT
BEGIN:STANDARD
TZOFFSETFROM:+0200
TZOFFSETTO:+0100
TZNAME:CET
DTSTART:20231029T010000
END:STANDARD
END:VTIMEZONE
BEGIN:VEVENT
DTSTART;TZID=Europe/Brussels:20221201T190000
DTEND;TZID=Europe/Brussels:20221201T210000
DTSTAMP:20260421T031348
CREATED:20221126T102759Z
LAST-MODIFIED:20221126T102759Z
UID:12120-1669921200-1669928400@paroissesaintemariemadeleine.be
SUMMARY:Conférence : A quand le changement.
DESCRIPTION:
URL:https://paroissesaintemariemadeleine.be/agenda-up/conference-a-quand-le-changement/
LOCATION:Maison Harmignie\, Rue Léon Bernus 9\, CHARLEROI\, Hainaut\, 6000\, Belgique
END:VEVENT
BEGIN:VEVENT
DTSTART;TZID=Europe/Brussels:20221203T110000
DTEND;TZID=Europe/Brussels:20221203T180000
DTSTAMP:20260421T031348
CREATED:20221025T061748Z
LAST-MODIFIED:20221025T061748Z
UID:12040-1670065200-1670090400@paroissesaintemariemadeleine.be
SUMMARY:Marché de Noël à la chapelle de Heigne
DESCRIPTION:Marché de Noël à Heigne
URL:https://paroissesaintemariemadeleine.be/agenda-up/marche-de-noel-a-la-chapelle-de-heigne/
LOCATION:Chapelle de Jumet Heigne\, Place du Prieuré\, Jumet heigne\, Belgique
END:VEVENT
BEGIN:VEVENT
DTSTART;TZID=Europe/Brussels:20221204T110000
DTEND;TZID=Europe/Brussels:20221204T130000
DTSTAMP:20260421T031348
CREATED:20221203T095247Z
LAST-MODIFIED:20221203T095247Z
UID:12152-1670151600-1670158800@paroissesaintemariemadeleine.be
SUMMARY:Messe de Sainte Barbe à Jumet Heigne
DESCRIPTION:
URL:https://paroissesaintemariemadeleine.be/agenda-up/messe-de-sainte-barbe-a-jumet-heigne/
LOCATION:Chapelle de Jumet Heigne\, Place du Prieuré\, Jumet heigne\, Belgique
END:VEVENT
BEGIN:VEVENT
DTSTART;TZID=Europe/Brussels:20221210T090000
DTEND;TZID=Europe/Brussels:20221210T170000
DTSTAMP:20260421T031348
CREATED:20221025T062546Z
LAST-MODIFIED:20221025T062546Z
UID:12046-1670662800-1670691600@paroissesaintemariemadeleine.be
SUMMARY:Exposition de crèches à Jumet Gohyssart
DESCRIPTION:
URL:https://paroissesaintemariemadeleine.be/agenda-up/exposition-de-creches-a-jumet-gohyssart/
LOCATION:Eglise de Gohyssart\, Place du Ballon \, Jumet Gohyssart\, Hainaut\, 6040\, Belgique
END:VEVENT
BEGIN:VEVENT
DTSTART;TZID=Europe/Brussels:20221211T090000
DTEND;TZID=Europe/Brussels:20221211T170000
DTSTAMP:20260421T031348
CREATED:20221025T062717Z
LAST-MODIFIED:20221025T062717Z
UID:12048-1670749200-1670778000@paroissesaintemariemadeleine.be
SUMMARY:Exposition de crèches à Jumet Gohyssart
DESCRIPTION:
URL:https://paroissesaintemariemadeleine.be/agenda-up/exposition-de-creches-a-jumet-gohyssart-2/
LOCATION:Eglise de Gohyssart\, Place du Ballon \, Jumet Gohyssart\, Hainaut\, 6040\, Belgique
END:VEVENT
BEGIN:VEVENT
DTSTART;TZID=Europe/Brussels:20221211T160000
DTEND;TZID=Europe/Brussels:20221211T190000
DTSTAMP:20260421T031348
CREATED:20221106T103501Z
LAST-MODIFIED:20221106T103501Z
UID:12060-1670774400-1670785200@paroissesaintemariemadeleine.be
SUMMARY:Concert de Noël à Roux
DESCRIPTION:
URL:https://paroissesaintemariemadeleine.be/agenda-up/concert-de-noel-a-roux/
LOCATION:Eglise de Roux\, rue A. Lepage\, 1\, Roux\, 6044\, Belgique
END:VEVENT
BEGIN:VEVENT
DTSTART;TZID=Europe/Brussels:20221212T090000
DTEND;TZID=Europe/Brussels:20221212T120000
DTSTAMP:20260421T031348
CREATED:20221025T062839Z
LAST-MODIFIED:20221025T062839Z
UID:12050-1670835600-1670846400@paroissesaintemariemadeleine.be
SUMMARY:Exposition de crèches à Jumet Gohyssart
DESCRIPTION:
URL:https://paroissesaintemariemadeleine.be/agenda-up/exposition-de-creches-a-jumet-gohyssart-3/
LOCATION:Eglise de Gohyssart\, Place du Ballon \, Jumet Gohyssart\, Hainaut\, 6040\, Belgique
END:VEVENT
BEGIN:VEVENT
DTSTART;TZID=Europe/Brussels:20221216T200000
DTEND;TZID=Europe/Brussels:20221216T220000
DTSTAMP:20260421T031348
CREATED:20221203T100350Z
LAST-MODIFIED:20221203T100350Z
UID:12156-1671220800-1671228000@paroissesaintemariemadeleine.be
SUMMARY:Concert de Noël à Jumet heigne
DESCRIPTION:
URL:https://paroissesaintemariemadeleine.be/agenda-up/concert-de-noel-a-jumet-heigne/
LOCATION:Chapelle de Jumet Heigne\, Place du Prieuré\, Jumet heigne\, Belgique
END:VEVENT
BEGIN:VEVENT
DTSTART;TZID=Europe/Brussels:20221217T140000
DTEND;TZID=Europe/Brussels:20221218T200000
DTSTAMP:20260421T031348
CREATED:20221126T103209Z
LAST-MODIFIED:20221126T103209Z
UID:12124-1671285600-1671393600@paroissesaintemariemadeleine.be
SUMMARY:Marché de Noël Foire artisanale Dampremy
DESCRIPTION:
URL:https://paroissesaintemariemadeleine.be/agenda-up/marche-de-noel-foire-artisanale-dampremy/
LOCATION:CEME DAMPREMY\, Rue des Français\, 147\, Dampremy\, 6020\, Belgique
END:VEVENT
BEGIN:VEVENT
DTSTART;TZID=Europe/Brussels:20221217T150000
DTEND;TZID=Europe/Brussels:20221217T180000
DTSTAMP:20260421T031349
CREATED:20221203T100010Z
LAST-MODIFIED:20221203T100010Z
UID:12154-1671289200-1671300000@paroissesaintemariemadeleine.be
SUMMARY:Conférence de l’Avent sur la synodalité
DESCRIPTION:
URL:https://paroissesaintemariemadeleine.be/agenda-up/conference-de-lavent-sur-la-synodalite/
LOCATION:Eglise de Lodelinsart Ouest\, rue Neuve \, Lodelinsart\, Hainaut\, 6042
END:VEVENT
BEGIN:VEVENT
DTSTART;TZID=Europe/Brussels:20221218T123000
DTEND;TZID=Europe/Brussels:20221218T190000
DTSTAMP:20260421T031349
CREATED:20221126T103512Z
LAST-MODIFIED:20221126T103512Z
UID:12126-1671366600-1671390000@paroissesaintemariemadeleine.be
SUMMARY:Marché artisanal de Noël à Gohyssart
DESCRIPTION:
URL:https://paroissesaintemariemadeleine.be/agenda-up/marche-artisanal-de-noel-a-gohyssart/
LOCATION:Maison de tous\, place du Ballon\, Jumet Gohyssart\, Hainaut\, Belgique
END:VEVENT
BEGIN:VEVENT
DTSTART;TZID=Europe/Brussels:20221219T090000
DTEND;TZID=Europe/Brussels:20221219T130000
DTSTAMP:20260421T031349
CREATED:20221126T103838Z
LAST-MODIFIED:20221126T103838Z
UID:12128-1671440400-1671454800@paroissesaintemariemadeleine.be
SUMMARY:Marché artisanal de Noël à Gohyssart
DESCRIPTION:
URL:https://paroissesaintemariemadeleine.be/agenda-up/marche-artisanal-de-noel-a-gohyssart-2/
LOCATION:Maison de tous\, place du Ballon\, Jumet Gohyssart\, Hainaut\, Belgique
END:VEVENT
END:VCALENDAR