BEGIN:VCALENDAR
VERSION:2.0
PRODID:-//UNITE PASTORALE Sainte-Marie-Madeleine - ECPv6.15.20//NONSGML v1.0//EN
CALSCALE:GREGORIAN
METHOD:PUBLISH
X-ORIGINAL-URL:https://paroissesaintemariemadeleine.be
X-WR-CALDESC:Évènements pour UNITE PASTORALE Sainte-Marie-Madeleine
REFRESH-INTERVAL;VALUE=DURATION:PT1H
X-Robots-Tag:noindex
X-PUBLISHED-TTL:PT1H
BEGIN:VTIMEZONE
TZID:Europe/Brussels
BEGIN:DAYLIGHT
TZOFFSETFROM:+0100
TZOFFSETTO:+0200
TZNAME:CEST
DTSTART:20220327T010000
END:DAYLIGHT
BEGIN:STANDARD
TZOFFSETFROM:+0200
TZOFFSETTO:+0100
TZNAME:CET
DTSTART:20221030T010000
END:STANDARD
BEGIN:DAYLIGHT
TZOFFSETFROM:+0100
TZOFFSETTO:+0200
TZNAME:CEST
DTSTART:20230326T010000
END:DAYLIGHT
BEGIN:STANDARD
TZOFFSETFROM:+0200
TZOFFSETTO:+0100
TZNAME:CET
DTSTART:20231029T010000
END:STANDARD
BEGIN:DAYLIGHT
TZOFFSETFROM:+0100
TZOFFSETTO:+0200
TZNAME:CEST
DTSTART:20240331T010000
END:DAYLIGHT
BEGIN:STANDARD
TZOFFSETFROM:+0200
TZOFFSETTO:+0100
TZNAME:CET
DTSTART:20241027T010000
END:STANDARD
END:VTIMEZONE
BEGIN:VEVENT
DTSTART;TZID=Europe/Brussels:20230107T160000
DTEND;TZID=Europe/Brussels:20230107T190000
DTSTAMP:20260421T015707
CREATED:20220928T154750Z
LAST-MODIFIED:20220928T154750Z
UID:11957-1673107200-1673118000@paroissesaintemariemadeleine.be
SUMMARY:Marche à l’étoile
DESCRIPTION:Grande marche à l’étoile avec les enfants et les familles.
URL:https://paroissesaintemariemadeleine.be/agenda-up/marche-a-letoile-2/
LOCATION:Eglise Saint Rémy\, rue \, Dampremy\, 6020
END:VEVENT
BEGIN:VEVENT
DTSTART;TZID=Europe/Brussels:20230126T190000
DTEND;TZID=Europe/Brussels:20230126T213000
DTSTAMP:20260421T015707
CREATED:20230121T104058Z
LAST-MODIFIED:20230121T104058Z
UID:12287-1674759600-1674768600@paroissesaintemariemadeleine.be
SUMMARY:Conseil Local Pastoral paroisse Sainte Marie Madeleine
DESCRIPTION:Le conseil pastoral de notre paroisse aura lieu à la salle de la maison de tous dès 19h00.
URL:https://paroissesaintemariemadeleine.be/agenda-up/conseil-local-pastoral-paroisse-sainte-marie-madeleine/
LOCATION:salle la maison de tous\, Place du Ballon\, Jumet Gohyssart\, Hainaut\, 6040\, Belgique
END:VEVENT
END:VCALENDAR