BEGIN:VCALENDAR
VERSION:2.0
PRODID:-//UNITE PASTORALE Sainte-Marie-Madeleine - ECPv6.15.20//NONSGML v1.0//EN
CALSCALE:GREGORIAN
METHOD:PUBLISH
X-ORIGINAL-URL:https://paroissesaintemariemadeleine.be
X-WR-CALDESC:Évènements pour UNITE PASTORALE Sainte-Marie-Madeleine
REFRESH-INTERVAL;VALUE=DURATION:PT1H
X-Robots-Tag:noindex
X-PUBLISHED-TTL:PT1H
BEGIN:VTIMEZONE
TZID:Europe/Brussels
BEGIN:DAYLIGHT
TZOFFSETFROM:+0100
TZOFFSETTO:+0200
TZNAME:CEST
DTSTART:20220327T010000
END:DAYLIGHT
BEGIN:STANDARD
TZOFFSETFROM:+0200
TZOFFSETTO:+0100
TZNAME:CET
DTSTART:20221030T010000
END:STANDARD
BEGIN:DAYLIGHT
TZOFFSETFROM:+0100
TZOFFSETTO:+0200
TZNAME:CEST
DTSTART:20230326T010000
END:DAYLIGHT
BEGIN:STANDARD
TZOFFSETFROM:+0200
TZOFFSETTO:+0100
TZNAME:CET
DTSTART:20231029T010000
END:STANDARD
BEGIN:DAYLIGHT
TZOFFSETFROM:+0100
TZOFFSETTO:+0200
TZNAME:CEST
DTSTART:20240331T010000
END:DAYLIGHT
BEGIN:STANDARD
TZOFFSETFROM:+0200
TZOFFSETTO:+0100
TZNAME:CET
DTSTART:20241027T010000
END:STANDARD
END:VTIMEZONE
BEGIN:VEVENT
DTSTART;TZID=Europe/Brussels:20230315T100000
DTEND;TZID=Europe/Brussels:20230315T153000
DTSTAMP:20260421T004326
CREATED:20230222T165925Z
LAST-MODIFIED:20230222T165925Z
UID:12396-1678874400-1678894200@paroissesaintemariemadeleine.be
SUMMARY:Rencontre témoin du Brésil avec Entraide et Fraternité
DESCRIPTION:
URL:https://paroissesaintemariemadeleine.be/agenda-up/rencontre-temoin-du-bresil-avec-entraide-et-fraternite/
LOCATION:Maison de quartier la Rochelle\, rue des écoles\, 2\, Roux\, Hainaut\, 6044\, Belgique
END:VEVENT
BEGIN:VEVENT
DTSTART;TZID=Europe/Brussels:20230315T190000
DTEND;TZID=Europe/Brussels:20230315T210000
DTSTAMP:20260421T004326
CREATED:20230121T103543Z
LAST-MODIFIED:20230121T103543Z
UID:12281-1678906800-1678914000@paroissesaintemariemadeleine.be
SUMMARY:Conférence de carême à Charleroi
DESCRIPTION:
URL:https://paroissesaintemariemadeleine.be/agenda-up/conference-de-careme-a-charleroi-2/
LOCATION:Chapelle du Sacré Coeur (Jésuites)\, Rue de Montigny\, Charleroi\, Hainaut\, 6000
END:VEVENT
BEGIN:VEVENT
DTSTART;TZID=Europe/Brussels:20230322T190000
DTEND;TZID=Europe/Brussels:20230322T210000
DTSTAMP:20260421T004326
CREATED:20230121T103700Z
LAST-MODIFIED:20230121T103700Z
UID:12283-1679511600-1679518800@paroissesaintemariemadeleine.be
SUMMARY:Conférence de carême à Charleroi
DESCRIPTION:
URL:https://paroissesaintemariemadeleine.be/agenda-up/conference-de-careme-a-charleroi-3/
LOCATION:Chapelle du Sacré Coeur (Jésuites)\, Rue de Montigny\, Charleroi\, Hainaut\, 6000
END:VEVENT
BEGIN:VEVENT
DTSTART;TZID=Europe/Brussels:20230329T190000
DTEND;TZID=Europe/Brussels:20230329T210000
DTSTAMP:20260421T004326
CREATED:20230121T103241Z
LAST-MODIFIED:20230121T103347Z
UID:12278-1680116400-1680123600@paroissesaintemariemadeleine.be
SUMMARY:Conférence de carême à Charleroi
DESCRIPTION:
URL:https://paroissesaintemariemadeleine.be/agenda-up/conference-de-careme-a-charleroi/
LOCATION:Chapelle du Sacré Coeur (Jésuites)\, Rue de Montigny\, Charleroi\, Hainaut\, 6000
END:VEVENT
END:VCALENDAR