BEGIN:VCALENDAR
VERSION:2.0
PRODID:-//UNITE PASTORALE Sainte-Marie-Madeleine - ECPv6.15.20//NONSGML v1.0//EN
CALSCALE:GREGORIAN
METHOD:PUBLISH
X-ORIGINAL-URL:https://paroissesaintemariemadeleine.be
X-WR-CALDESC:Évènements pour UNITE PASTORALE Sainte-Marie-Madeleine
REFRESH-INTERVAL;VALUE=DURATION:PT1H
X-Robots-Tag:noindex
X-PUBLISHED-TTL:PT1H
BEGIN:VTIMEZONE
TZID:Europe/Brussels
BEGIN:DAYLIGHT
TZOFFSETFROM:+0100
TZOFFSETTO:+0200
TZNAME:CEST
DTSTART:20220327T010000
END:DAYLIGHT
BEGIN:STANDARD
TZOFFSETFROM:+0200
TZOFFSETTO:+0100
TZNAME:CET
DTSTART:20221030T010000
END:STANDARD
BEGIN:DAYLIGHT
TZOFFSETFROM:+0100
TZOFFSETTO:+0200
TZNAME:CEST
DTSTART:20230326T010000
END:DAYLIGHT
BEGIN:STANDARD
TZOFFSETFROM:+0200
TZOFFSETTO:+0100
TZNAME:CET
DTSTART:20231029T010000
END:STANDARD
BEGIN:DAYLIGHT
TZOFFSETFROM:+0100
TZOFFSETTO:+0200
TZNAME:CEST
DTSTART:20240331T010000
END:DAYLIGHT
BEGIN:STANDARD
TZOFFSETFROM:+0200
TZOFFSETTO:+0100
TZNAME:CET
DTSTART:20241027T010000
END:STANDARD
END:VTIMEZONE
BEGIN:VEVENT
DTSTART;TZID=Europe/Brussels:20230406T180000
DTEND;TZID=Europe/Brussels:20230406T193000
DTSTAMP:20260420T220405
CREATED:20230405T160955Z
LAST-MODIFIED:20230405T160955Z
UID:12505-1680804000-1680809400@paroissesaintemariemadeleine.be
SUMMARY:Jeudi Saint
DESCRIPTION:
URL:https://paroissesaintemariemadeleine.be/agenda-up/jeudi-saint-3/
LOCATION:Eglise de la Docherie\, Place Astrid\, La Docherie\, Hainaut\, 6030\, Belgique
END:VEVENT
BEGIN:VEVENT
DTSTART;TZID=Europe/Brussels:20230407T150000
DTEND;TZID=Europe/Brussels:20230407T160000
DTSTAMP:20260420T220405
CREATED:20230405T161118Z
LAST-MODIFIED:20230405T161118Z
UID:12507-1680879600-1680883200@paroissesaintemariemadeleine.be
SUMMARY:Vendredi Saint chemin de croix
DESCRIPTION:
URL:https://paroissesaintemariemadeleine.be/agenda-up/vendredi-saint-chemin-de-croix-2/
LOCATION:Eglises
END:VEVENT
BEGIN:VEVENT
DTSTART;TZID=Europe/Brussels:20230407T180000
DTEND;TZID=Europe/Brussels:20230407T193000
DTSTAMP:20260420T220405
CREATED:20230405T161257Z
LAST-MODIFIED:20230405T161257Z
UID:12509-1680890400-1680895800@paroissesaintemariemadeleine.be
SUMMARY:Célébration de la passion
DESCRIPTION:
URL:https://paroissesaintemariemadeleine.be/agenda-up/celebration-de-la-passion/
LOCATION:Dampremy\, Dampremy\, Hainaut\, 6020\, Belgique
END:VEVENT
BEGIN:VEVENT
DTSTART;TZID=Europe/Brussels:20230408T200000
DTEND;TZID=Europe/Brussels:20230408T220000
DTSTAMP:20260420T220405
CREATED:20230405T154807Z
LAST-MODIFIED:20230405T154807Z
UID:12493-1680984000-1680991200@paroissesaintemariemadeleine.be
SUMMARY:VIGILE PASCALE
DESCRIPTION:
URL:https://paroissesaintemariemadeleine.be/agenda-up/vigile-pascale/
LOCATION:Eglise de Gohyssart\, Place du Ballon \, Jumet Gohyssart\, Hainaut\, 6040\, Belgique
END:VEVENT
BEGIN:VEVENT
DTSTART;VALUE=DATE:20230409
DTEND;VALUE=DATE:20230411
DTSTAMP:20260420T220405
CREATED:20230405T154930Z
LAST-MODIFIED:20230405T155339Z
UID:12495-1681012800-1681099199@paroissesaintemariemadeleine.be
SUMMARY:MESSE DE PAQUES
DESCRIPTION:
URL:https://paroissesaintemariemadeleine.be/agenda-up/jeudi-saint-2/
LOCATION:Eglises
END:VEVENT
END:VCALENDAR