BEGIN:VCALENDAR
VERSION:2.0
PRODID:-//UNITE PASTORALE Sainte-Marie-Madeleine - ECPv6.15.20//NONSGML v1.0//EN
CALSCALE:GREGORIAN
METHOD:PUBLISH
X-WR-CALNAME:UNITE PASTORALE Sainte-Marie-Madeleine
X-ORIGINAL-URL:https://paroissesaintemariemadeleine.be
X-WR-CALDESC:Évènements pour UNITE PASTORALE Sainte-Marie-Madeleine
REFRESH-INTERVAL;VALUE=DURATION:PT1H
X-Robots-Tag:noindex
X-PUBLISHED-TTL:PT1H
BEGIN:VTIMEZONE
TZID:Europe/Brussels
BEGIN:DAYLIGHT
TZOFFSETFROM:+0100
TZOFFSETTO:+0200
TZNAME:CEST
DTSTART:20220327T010000
END:DAYLIGHT
BEGIN:STANDARD
TZOFFSETFROM:+0200
TZOFFSETTO:+0100
TZNAME:CET
DTSTART:20221030T010000
END:STANDARD
BEGIN:DAYLIGHT
TZOFFSETFROM:+0100
TZOFFSETTO:+0200
TZNAME:CEST
DTSTART:20230326T010000
END:DAYLIGHT
BEGIN:STANDARD
TZOFFSETFROM:+0200
TZOFFSETTO:+0100
TZNAME:CET
DTSTART:20231029T010000
END:STANDARD
BEGIN:DAYLIGHT
TZOFFSETFROM:+0100
TZOFFSETTO:+0200
TZNAME:CEST
DTSTART:20240331T010000
END:DAYLIGHT
BEGIN:STANDARD
TZOFFSETFROM:+0200
TZOFFSETTO:+0100
TZNAME:CET
DTSTART:20241027T010000
END:STANDARD
END:VTIMEZONE
BEGIN:VEVENT
DTSTART;TZID=Europe/Brussels:20230518T100000
DTEND;TZID=Europe/Brussels:20230518T123000
DTSTAMP:20260420T191208
CREATED:20230415T135359Z
LAST-MODIFIED:20230415T135725Z
UID:12519-1684404000-1684413000@paroissesaintemariemadeleine.be
SUMMARY:Fête de Notre-Dame Au Bois et de l’unité pastorale : Messe de l’ascension + procession
DESCRIPTION:
URL:https://paroissesaintemariemadeleine.be/agenda-up/fete-de-notre-dame-au-bois-et-de-lunite-pastorale-messe-de-lascension-procession/
LOCATION:Eglise de Gohyssart\, Place du Ballon \, Jumet Gohyssart\, Hainaut\, 6040\, Belgique
END:VEVENT
BEGIN:VEVENT
DTSTART;TZID=Europe/Brussels:20230519T190000
DTEND;TZID=Europe/Brussels:20230519T230000
DTSTAMP:20260420T191209
CREATED:20230415T135602Z
LAST-MODIFIED:20230415T135602Z
UID:12521-1684522800-1684537200@paroissesaintemariemadeleine.be
SUMMARY:Fête de Notre-Dame Au Bois et de l’unité pastorale : bar des moines
DESCRIPTION:
URL:https://paroissesaintemariemadeleine.be/agenda-up/fete-de-notre-dame-au-bois-et-de-lunite-pastorale-bar-des-moines/
LOCATION:Chapelle Notre Dame au Bois\, rue de Marchienne\, Jumet\, Hainaut\, 6040\, Belgique
END:VEVENT
BEGIN:VEVENT
DTSTART;TZID=Europe/Brussels:20230520T140000
DTEND;TZID=Europe/Brussels:20230520T233000
DTSTAMP:20260420T191209
CREATED:20230415T135916Z
LAST-MODIFIED:20230415T135916Z
UID:12524-1684591200-1684625400@paroissesaintemariemadeleine.be
SUMMARY:Fête de Notre-Dame Au Bois et de l’unité pastorale
DESCRIPTION:
URL:https://paroissesaintemariemadeleine.be/agenda-up/fete-de-notre-dame-au-bois-et-de-lunite-pastorale/
LOCATION:Chapelle Notre Dame au Bois\, rue de Marchienne\, Jumet\, Hainaut\, 6040\, Belgique
END:VEVENT
BEGIN:VEVENT
DTSTART;TZID=Europe/Brussels:20230521T110000
DTEND;TZID=Europe/Brussels:20230521T170000
DTSTAMP:20260420T191209
CREATED:20230415T140045Z
LAST-MODIFIED:20230415T140045Z
UID:12526-1684666800-1684688400@paroissesaintemariemadeleine.be
SUMMARY:Fête de Notre-Dame Au Bois et de l’unité pastorale : messe solennelle + diner
DESCRIPTION:
URL:https://paroissesaintemariemadeleine.be/agenda-up/fete-de-notre-dame-au-bois-et-de-lunite-pastorale-messe-solennelle-diner/
LOCATION:Chapelle Notre Dame au Bois\, rue de Marchienne\, Jumet\, Hainaut\, 6040\, Belgique
END:VEVENT
BEGIN:VEVENT
DTSTART;TZID=Europe/Brussels:20230521T160000
DTEND;TZID=Europe/Brussels:20230521T180000
DTSTAMP:20260420T191209
CREATED:20230422T074203Z
LAST-MODIFIED:20230422T074203Z
UID:12539-1684684800-1684692000@paroissesaintemariemadeleine.be
SUMMARY:Concert d’orgue et trompette à Roux
DESCRIPTION:
URL:https://paroissesaintemariemadeleine.be/agenda-up/concert-dorgue-et-trompette-a-roux/
LOCATION:Eglise de Roux\, Rue Alexandre Lepage 1\, Roux\, 6044
END:VEVENT
BEGIN:VEVENT
DTSTART;VALUE=DATE:20230529
DTEND;VALUE=DATE:20230531
DTSTAMP:20260420T191209
CREATED:20230422T074419Z
LAST-MODIFIED:20230422T074419Z
UID:12541-1685332800-1685419199@paroissesaintemariemadeleine.be
SUMMARY:Excursion de notre Unité Pastorale
DESCRIPTION:
URL:https://paroissesaintemariemadeleine.be/agenda-up/excursion-de-notre-unite-pastorale/
LOCATION:lunch Garden de la Madeleine\, Rue Hubert Bastin 7\, Jumet\, Hainaut\, 6040\, Belgique
END:VEVENT
END:VCALENDAR