BEGIN:VCALENDAR
VERSION:2.0
PRODID:-//UNITE PASTORALE Sainte-Marie-Madeleine - ECPv6.15.20//NONSGML v1.0//EN
CALSCALE:GREGORIAN
METHOD:PUBLISH
X-WR-CALNAME:UNITE PASTORALE Sainte-Marie-Madeleine
X-ORIGINAL-URL:https://paroissesaintemariemadeleine.be
X-WR-CALDESC:Évènements pour UNITE PASTORALE Sainte-Marie-Madeleine
REFRESH-INTERVAL;VALUE=DURATION:PT1H
X-Robots-Tag:noindex
X-PUBLISHED-TTL:PT1H
BEGIN:VTIMEZONE
TZID:Europe/Brussels
BEGIN:DAYLIGHT
TZOFFSETFROM:+0100
TZOFFSETTO:+0200
TZNAME:CEST
DTSTART:20220327T010000
END:DAYLIGHT
BEGIN:STANDARD
TZOFFSETFROM:+0200
TZOFFSETTO:+0100
TZNAME:CET
DTSTART:20221030T010000
END:STANDARD
BEGIN:DAYLIGHT
TZOFFSETFROM:+0100
TZOFFSETTO:+0200
TZNAME:CEST
DTSTART:20230326T010000
END:DAYLIGHT
BEGIN:STANDARD
TZOFFSETFROM:+0200
TZOFFSETTO:+0100
TZNAME:CET
DTSTART:20231029T010000
END:STANDARD
BEGIN:DAYLIGHT
TZOFFSETFROM:+0100
TZOFFSETTO:+0200
TZNAME:CEST
DTSTART:20240331T010000
END:DAYLIGHT
BEGIN:STANDARD
TZOFFSETFROM:+0200
TZOFFSETTO:+0100
TZNAME:CET
DTSTART:20241027T010000
END:STANDARD
END:VTIMEZONE
BEGIN:VEVENT
DTSTART;TZID=Europe/Brussels:20230818T173000
DTEND;TZID=Europe/Brussels:20230818T203000
DTSTAMP:20260420T145843
CREATED:20230704T080016Z
LAST-MODIFIED:20230704T080037Z
UID:12645-1692379800-1692390600@paroissesaintemariemadeleine.be
SUMMARY:Commémoration de la tuerie du Rognac à Courcelles
DESCRIPTION:
URL:https://paroissesaintemariemadeleine.be/agenda-up/commemoration-des-tueries-du-rognac-a-courcelles/
LOCATION:Maison des Martyres\, rue des Martyres\, 28\, Courcelles\, Hainaut\, 6180\, Belgique
END:VEVENT
BEGIN:VEVENT
DTSTART;TZID=Europe/Brussels:20230820T103000
DTEND;TZID=Europe/Brussels:20230820T120000
DTSTAMP:20260420T145843
CREATED:20230704T081239Z
LAST-MODIFIED:20230704T081239Z
UID:12657-1692527400-1692532800@paroissesaintemariemadeleine.be
SUMMARY:Commémoration de la tuerie de Courcelles : célébration eucharistique en hommage au doyen et aux victimes
DESCRIPTION:
URL:https://paroissesaintemariemadeleine.be/agenda-up/commemoration-de-la-tuerie-de-courcelles-celebration-eucharistique-en-hommage-au-doyen-et-aux-victimes/
LOCATION:Basilique Saint Christophe\, place du Manège\, Charleroi\, Hainaut\, 6000\, Belgique
END:VEVENT
BEGIN:VEVENT
DTSTART;TZID=Europe/Brussels:20230829T140000
DTEND;TZID=Europe/Brussels:20230829T150000
DTSTAMP:20260420T145843
CREATED:20230816T111046Z
LAST-MODIFIED:20230816T111046Z
UID:12688-1693317600-1693321200@paroissesaintemariemadeleine.be
SUMMARY:Inauguration du parc Paul Trigalet à Jumet Allée verte
DESCRIPTION:
URL:https://paroissesaintemariemadeleine.be/agenda-up/inauguration-du-parc-paul-trigalet-a-jumet-allee-verte/
LOCATION:Allée Verte Jumet\, Allée Verte\, Jumet\, Hainaut\, 6040\, Belgique
END:VEVENT
END:VCALENDAR