BEGIN:VCALENDAR
VERSION:2.0
PRODID:-//UNITE PASTORALE Sainte-Marie-Madeleine - ECPv6.15.20//NONSGML v1.0//EN
CALSCALE:GREGORIAN
METHOD:PUBLISH
X-WR-CALNAME:UNITE PASTORALE Sainte-Marie-Madeleine
X-ORIGINAL-URL:https://paroissesaintemariemadeleine.be
X-WR-CALDESC:Évènements pour UNITE PASTORALE Sainte-Marie-Madeleine
REFRESH-INTERVAL;VALUE=DURATION:PT1H
X-Robots-Tag:noindex
X-PUBLISHED-TTL:PT1H
BEGIN:VTIMEZONE
TZID:Europe/Brussels
BEGIN:DAYLIGHT
TZOFFSETFROM:+0100
TZOFFSETTO:+0200
TZNAME:CEST
DTSTART:20230326T010000
END:DAYLIGHT
BEGIN:STANDARD
TZOFFSETFROM:+0200
TZOFFSETTO:+0100
TZNAME:CET
DTSTART:20231029T010000
END:STANDARD
BEGIN:DAYLIGHT
TZOFFSETFROM:+0100
TZOFFSETTO:+0200
TZNAME:CEST
DTSTART:20240331T010000
END:DAYLIGHT
BEGIN:STANDARD
TZOFFSETFROM:+0200
TZOFFSETTO:+0100
TZNAME:CET
DTSTART:20241027T010000
END:STANDARD
BEGIN:DAYLIGHT
TZOFFSETFROM:+0100
TZOFFSETTO:+0200
TZNAME:CEST
DTSTART:20250330T010000
END:DAYLIGHT
BEGIN:STANDARD
TZOFFSETFROM:+0200
TZOFFSETTO:+0100
TZNAME:CET
DTSTART:20251026T010000
END:STANDARD
END:VTIMEZONE
BEGIN:VEVENT
DTSTART;TZID=Europe/Brussels:20240203T161500
DTEND;TZID=Europe/Brussels:20240203T190000
DTSTAMP:20260420T062205
CREATED:20240131T160134Z
LAST-MODIFIED:20240131T160134Z
UID:13189-1706976900-1706986800@paroissesaintemariemadeleine.be
SUMMARY:LA CATÉCHÈSE FETE LA CHANDELEUR
DESCRIPTION:
URL:https://paroissesaintemariemadeleine.be/agenda-up/la-catechese-fete-la-chandeleur/
LOCATION:SALLE MARCHIENNE DOCHERIE\, Rue du Curé Robert\, Marchienne Docherie\, hainaut\, 6030\, Belgique
END:VEVENT
BEGIN:VEVENT
DTSTART;TZID=Europe/Brussels:20240204T160000
DTEND;TZID=Europe/Brussels:20240204T183000
DTSTAMP:20260420T062205
CREATED:20240131T160346Z
LAST-MODIFIED:20240131T160346Z
UID:13192-1707062400-1707071400@paroissesaintemariemadeleine.be
SUMMARY:Concert à Roux
DESCRIPTION:
URL:https://paroissesaintemariemadeleine.be/agenda-up/concert-a-roux/
LOCATION:Eglise de Roux\, rue A. Lepage\, 1\, Roux\, 6044\, Belgique
END:VEVENT
BEGIN:VEVENT
DTSTART;TZID=Europe/Brussels:20240214T173000
DTEND;TZID=Europe/Brussels:20240214T183000
DTSTAMP:20260420T062205
CREATED:20240131T160607Z
LAST-MODIFIED:20240131T160607Z
UID:13194-1707931800-1707935400@paroissesaintemariemadeleine.be
SUMMARY:Mercredi des Cendres : entrée en Carême de Partage
DESCRIPTION:14 Février Mercredi des Cendres\, entrée en Carême de partage \nMesses à :\n17 : 30 Roux\n17 : 30 Lodelinsart\n17 : 30 Try-Charly
URL:https://paroissesaintemariemadeleine.be/agenda-up/mercredi-des-cendres-entree-en-careme-de-partage/
END:VEVENT
END:VCALENDAR