BEGIN:VCALENDAR
VERSION:2.0
PRODID:-//UNITE PASTORALE Sainte-Marie-Madeleine - ECPv6.15.20//NONSGML v1.0//EN
CALSCALE:GREGORIAN
METHOD:PUBLISH
X-ORIGINAL-URL:https://paroissesaintemariemadeleine.be
X-WR-CALDESC:Évènements pour UNITE PASTORALE Sainte-Marie-Madeleine
REFRESH-INTERVAL;VALUE=DURATION:PT1H
X-Robots-Tag:noindex
X-PUBLISHED-TTL:PT1H
BEGIN:VTIMEZONE
TZID:Europe/Brussels
BEGIN:DAYLIGHT
TZOFFSETFROM:+0100
TZOFFSETTO:+0200
TZNAME:CEST
DTSTART:20230326T010000
END:DAYLIGHT
BEGIN:STANDARD
TZOFFSETFROM:+0200
TZOFFSETTO:+0100
TZNAME:CET
DTSTART:20231029T010000
END:STANDARD
BEGIN:DAYLIGHT
TZOFFSETFROM:+0100
TZOFFSETTO:+0200
TZNAME:CEST
DTSTART:20240331T010000
END:DAYLIGHT
BEGIN:STANDARD
TZOFFSETFROM:+0200
TZOFFSETTO:+0100
TZNAME:CET
DTSTART:20241027T010000
END:STANDARD
BEGIN:DAYLIGHT
TZOFFSETFROM:+0100
TZOFFSETTO:+0200
TZNAME:CEST
DTSTART:20250330T010000
END:DAYLIGHT
BEGIN:STANDARD
TZOFFSETFROM:+0200
TZOFFSETTO:+0100
TZNAME:CET
DTSTART:20251026T010000
END:STANDARD
END:VTIMEZONE
BEGIN:VEVENT
DTSTART;TZID=Europe/Brussels:20240911T190000
DTEND;TZID=Europe/Brussels:20240911T203000
DTSTAMP:20260419T200157
CREATED:20240829T121239Z
LAST-MODIFIED:20240829T121239Z
UID:13563-1726081200-1726086600@paroissesaintemariemadeleine.be
SUMMARY:Rentrée de la catéchèse de cheminement : inscriptions
DESCRIPTION:
URL:https://paroissesaintemariemadeleine.be/agenda-up/rentree-de-la-catechese-de-cheminement-inscriptions/
LOCATION:Salle du Foyer\, Rue Emmanuël Jacquet\, 40\, Roux Bassée\, Hainaut\, 6044\, Belgique
END:VEVENT
BEGIN:VEVENT
DTSTART;TZID=Europe/Brussels:20240915T093000
DTEND;TZID=Europe/Brussels:20240915T110000
DTSTAMP:20260419T200157
CREATED:20240829T121408Z
LAST-MODIFIED:20240829T121408Z
UID:13565-1726392600-1726398000@paroissesaintemariemadeleine.be
SUMMARY:Célébration du sacrement des malades
DESCRIPTION:Dimanche 15 septembre : Fête de Notre Dame des 7 douleurs\, célébration du sacrement des malades avec l’onction d’huile à la messe de 9h30 à la Docherie.
URL:https://paroissesaintemariemadeleine.be/agenda-up/celebration-du-sacrement-des-malades/
LOCATION:Eglise de la Docherie\, Place Astrid\, La Docherie\, Hainaut\, 6030\, Belgique
END:VEVENT
BEGIN:VEVENT
DTSTART;TZID=Europe/Brussels:20240922T110000
DTEND;TZID=Europe/Brussels:20240922T190000
DTSTAMP:20260419T200157
CREATED:20240829T121540Z
LAST-MODIFIED:20240829T121540Z
UID:13567-1727002800-1727031600@paroissesaintemariemadeleine.be
SUMMARY:Messe de rentrée pastorale et dîner de rentrée
DESCRIPTION:
URL:https://paroissesaintemariemadeleine.be/agenda-up/messe-de-rentree-pastorale-et-diner-de-rentree/
LOCATION:Eglise de Gohyssart\, Place du Ballon \, Jumet Gohyssart\, Hainaut\, 6040\, Belgique
END:VEVENT
BEGIN:VEVENT
DTSTART;TZID=Europe/Brussels:20240929T100000
DTEND;TZID=Europe/Brussels:20240929T130000
DTSTAMP:20260419T200157
CREATED:20240922T122636Z
LAST-MODIFIED:20240922T122739Z
UID:13598-1727604000-1727614800@paroissesaintemariemadeleine.be
SUMMARY:Grande messe avec le Pape François à Bruxelles
DESCRIPTION:Le pape François clôturera sa visite dans notre pays\, par une Eucharistie multilingue le dimanche 29 septembre à 10h au stade Roi Baudouin à Bruxelles. La célébration sera retransmise dans le monde entier.
URL:https://paroissesaintemariemadeleine.be/agenda-up/grande-messe-avec-le-pape-francois-a-bruxelles/
END:VEVENT
END:VCALENDAR