BEGIN:VCALENDAR
VERSION:2.0
PRODID:-//UNITE PASTORALE Sainte-Marie-Madeleine - ECPv6.15.20//NONSGML v1.0//EN
CALSCALE:GREGORIAN
METHOD:PUBLISH
X-ORIGINAL-URL:https://paroissesaintemariemadeleine.be
X-WR-CALDESC:Évènements pour UNITE PASTORALE Sainte-Marie-Madeleine
REFRESH-INTERVAL;VALUE=DURATION:PT1H
X-Robots-Tag:noindex
X-PUBLISHED-TTL:PT1H
BEGIN:VTIMEZONE
TZID:Europe/Brussels
BEGIN:DAYLIGHT
TZOFFSETFROM:+0100
TZOFFSETTO:+0200
TZNAME:CEST
DTSTART:20230326T010000
END:DAYLIGHT
BEGIN:STANDARD
TZOFFSETFROM:+0200
TZOFFSETTO:+0100
TZNAME:CET
DTSTART:20231029T010000
END:STANDARD
BEGIN:DAYLIGHT
TZOFFSETFROM:+0100
TZOFFSETTO:+0200
TZNAME:CEST
DTSTART:20240331T010000
END:DAYLIGHT
BEGIN:STANDARD
TZOFFSETFROM:+0200
TZOFFSETTO:+0100
TZNAME:CET
DTSTART:20241027T010000
END:STANDARD
BEGIN:DAYLIGHT
TZOFFSETFROM:+0100
TZOFFSETTO:+0200
TZNAME:CEST
DTSTART:20250330T010000
END:DAYLIGHT
BEGIN:STANDARD
TZOFFSETFROM:+0200
TZOFFSETTO:+0100
TZNAME:CET
DTSTART:20251026T010000
END:STANDARD
END:VTIMEZONE
BEGIN:VEVENT
DTSTART;TZID=Europe/Brussels:20241207T090000
DTEND;TZID=Europe/Brussels:20241207T170000
DTSTAMP:20260419T153946
CREATED:20241103T115917Z
LAST-MODIFIED:20241103T115917Z
UID:13747-1733562000-1733590800@paroissesaintemariemadeleine.be
SUMMARY:Marché de Noël à Jumet Heigne
DESCRIPTION:
URL:https://paroissesaintemariemadeleine.be/agenda-up/marche-de-noel-a-jumet-heigne/
LOCATION:Chapelle de Jumet Heigne\, Place du Prieuré\, Jumet heigne\, Belgique
END:VEVENT
BEGIN:VEVENT
DTSTART;TZID=Europe/Brussels:20241208T100000
DTEND;TZID=Europe/Brussels:20241208T190000
DTSTAMP:20260419T153946
CREATED:20241026T082749Z
LAST-MODIFIED:20241026T084145Z
UID:13716-1733652000-1733684400@paroissesaintemariemadeleine.be
SUMMARY:Marché de Noël à Roux Bassée\, au Foyer
DESCRIPTION:
URL:https://paroissesaintemariemadeleine.be/agenda-up/marche-de-noel-a-roux-bassee-au-foyer/
LOCATION:Salle du Foyer\, Rue Emmanuël Jacquet\, 40\, Roux Bassée\, Hainaut\, 6044\, Belgique
END:VEVENT
BEGIN:VEVENT
DTSTART;TZID=Europe/Brussels:20241209T183000
DTEND;TZID=Europe/Brussels:20241209T193000
DTSTAMP:20260419T153946
CREATED:20241206T125444Z
LAST-MODIFIED:20241206T125444Z
UID:13862-1733769000-1733772600@paroissesaintemariemadeleine.be
SUMMARY:Arc En Terre : Comment être acteur\, actrice dans notre système politique
DESCRIPTION: Lundi 9 décembre 2024 de 18h30 à 19h30 : Rencontre de Arc-en Terre dans la salle paroissiale de Docherie à la place Reine Astrid 7. Thème  » Comment être acteur\, actrice dans notre système politique ». Nous sommes tous bienvenus.
URL:https://paroissesaintemariemadeleine.be/agenda-up/arc-en-terre-comment-etre-acteur-actrice-dans-notre-systeme-politique/
LOCATION:Salle paroissiale de La Docherie\, Place Astrid\, Marchienne Docherie\, Hainaut\, 6030\, Belgique
END:VEVENT
BEGIN:VEVENT
DTSTART;VALUE=DATE:20241210
DTEND;VALUE=DATE:20241212
DTSTAMP:20260419T153946
CREATED:20241103T121035Z
LAST-MODIFIED:20241103T121036Z
UID:13753-1733803200-1733889599@paroissesaintemariemadeleine.be
SUMMARY:Formation participative Service DHI diocèse
DESCRIPTION:
URL:https://paroissesaintemariemadeleine.be/agenda-up/formation-participative-service-dhi-diocese/
LOCATION:Maison diocésaine de Mesvin\, Chaussée de Maubeuge 457\, Ciply\, Hainaut\, 7024\, Belgique
END:VEVENT
BEGIN:VEVENT
DTSTART;TZID=Europe/Brussels:20241222T160000
DTEND;TZID=Europe/Brussels:20241222T193000
DTSTAMP:20260419T153946
CREATED:20241026T082620Z
LAST-MODIFIED:20241103T115717Z
UID:13714-1734883200-1734895800@paroissesaintemariemadeleine.be
SUMMARY:Concert de Noël à Roux
DESCRIPTION:Le concert de Noël traditionnel de Roux se déroulera le dimanche 22 décembre avec la chorale les XVI. \n \n 
URL:https://paroissesaintemariemadeleine.be/agenda-up/concert-de-noel-a-roux-3/
LOCATION:Eglise de Roux\, Rue Alexandre Lepage 1\, Roux\, 6044
END:VEVENT
END:VCALENDAR