BEGIN:VCALENDAR
VERSION:2.0
PRODID:-//UNITE PASTORALE Sainte-Marie-Madeleine - ECPv6.15.20//NONSGML v1.0//EN
CALSCALE:GREGORIAN
METHOD:PUBLISH
X-WR-CALNAME:UNITE PASTORALE Sainte-Marie-Madeleine
X-ORIGINAL-URL:https://paroissesaintemariemadeleine.be
X-WR-CALDESC:Évènements pour UNITE PASTORALE Sainte-Marie-Madeleine
REFRESH-INTERVAL;VALUE=DURATION:PT1H
X-Robots-Tag:noindex
X-PUBLISHED-TTL:PT1H
BEGIN:VTIMEZONE
TZID:Europe/Brussels
BEGIN:DAYLIGHT
TZOFFSETFROM:+0100
TZOFFSETTO:+0200
TZNAME:CEST
DTSTART:20240331T010000
END:DAYLIGHT
BEGIN:STANDARD
TZOFFSETFROM:+0200
TZOFFSETTO:+0100
TZNAME:CET
DTSTART:20241027T010000
END:STANDARD
BEGIN:DAYLIGHT
TZOFFSETFROM:+0100
TZOFFSETTO:+0200
TZNAME:CEST
DTSTART:20250330T010000
END:DAYLIGHT
BEGIN:STANDARD
TZOFFSETFROM:+0200
TZOFFSETTO:+0100
TZNAME:CET
DTSTART:20251026T010000
END:STANDARD
BEGIN:DAYLIGHT
TZOFFSETFROM:+0100
TZOFFSETTO:+0200
TZNAME:CEST
DTSTART:20260329T010000
END:DAYLIGHT
BEGIN:STANDARD
TZOFFSETFROM:+0200
TZOFFSETTO:+0100
TZNAME:CET
DTSTART:20261025T010000
END:STANDARD
END:VTIMEZONE
BEGIN:VEVENT
DTSTART;TZID=Europe/Brussels:20250111T160000
DTEND;TZID=Europe/Brussels:20250111T200000
DTSTAMP:20260419T140705
CREATED:20241231T124148Z
LAST-MODIFIED:20241231T124148Z
UID:13885-1736611200-1736625600@paroissesaintemariemadeleine.be
SUMMARY:Marche à l’étoile
DESCRIPTION:
URL:https://paroissesaintemariemadeleine.be/agenda-up/marche-a-letoile-4/
LOCATION:Eglise de la Docherie\, Place Astrid\, La Docherie\, Hainaut\, 6030\, Belgique
END:VEVENT
BEGIN:VEVENT
DTSTART;TZID=Europe/Brussels:20250112T110000
DTEND;TZID=Europe/Brussels:20250112T123000
DTSTAMP:20260419T140705
CREATED:20241231T124711Z
LAST-MODIFIED:20250104T082052Z
UID:13889-1736679600-1736685000@paroissesaintemariemadeleine.be
SUMMARY:Messe unique à Jumet Houbois pour le baptême de Jésus
DESCRIPTION:Célébration pour toute l’unité pastorale en l’honneur du baptême de Jésus\, avec les familles et les enfants baptisés en 2024.  Eglise de Jumet Houbois à 11h00.
URL:https://paroissesaintemariemadeleine.be/agenda-up/messe-unique-a-jumet-houbis-pour-le-bapteme-de-jesus/
LOCATION:Eglise de Jumet Houbois\, place Matteotti\, Jumet Houbois\, 6040
END:VEVENT
BEGIN:VEVENT
DTSTART;TZID=Europe/Brussels:20250130T190000
DTEND;TZID=Europe/Brussels:20250130T213000
DTSTAMP:20260419T140705
CREATED:20250126T091514Z
LAST-MODIFIED:20250126T091514Z
UID:13916-1738263600-1738272600@paroissesaintemariemadeleine.be
SUMMARY:Conseil Paroissial de Sainte Marie Madeleine
DESCRIPTION:Ce jeudi 30 janvier à 19h00 au Foyer\, clocher de Roux Bassée\, notre Conseil Paroissial aura lieu.
URL:https://paroissesaintemariemadeleine.be/agenda-up/conseil-paroissial-de-sainte-marie-madeleine/
LOCATION:Salle du Foyer\, Rue Emmanuël Jacquet\, 40\, Roux Bassée\, Hainaut\, 6044\, Belgique
END:VEVENT
END:VCALENDAR